BEGIN_USGS_DOQ_HEADER *
QUADRANGLE_NAME "LOS VIEJOS" *
QUADRANT SE *
NORTH_LATITUDE 35 56 15.000 *
WEST_LONGITUDE -119 56 15.000 *
SOUTH_LATITUDE 35 52 30.000 *
EAST_LONGITUDE -119 52 30.000 *
PRODUCTION_DATE 1998 11 24 *
RASTER_ORDER LEFT_RIGHT/TOP_BOTTOM *
BAND_ORGANIZATION "SINGLE FILE" *
BAND_CONTENT BLACK&WHITE *
BITS_PER_PIXEL 8 *
SAMPLES_AND_LINES 6570 7740 *
HORIZONTAL_DATUM NAD83 *
HORIZONTAL_COORDINATE_SYSTEM UTM *
COORDINATE_ZONE 11 *
HORIZONTAL_UNITS METERS *
HORIZONTAL_RESOLUTION 1.000 *
SECONDARY_HORIZONTAL_DATUM NAD27 *
XY_ORIGIN 234390.000 3981330.000 *
SECONDARY_XY_ORIGIN 234471.083 3981132.144 *
NATION US *
STATE CA *
NW_QUAD_CORNER_XY 235004.947 3981005.204 *
NE_QUAD_CORNER_XY 240644.639 3980837.166 *
SE_QUAD_CORNER_XY 240440.392 3973902.365 *
SW_QUAD_CORNER_XY 234796.248 3974070.282 *
SECONDARY_NW_QUAD_XY 234998.662 3980805.000 *
SECONDARY_NE_QUAD_XY 240638.488 3980636.958 *
SECONDARY_SE_QUAD_XY 240434.246 3973702.334 *
SECONDARY_SW_QUAD_XY 234789.969 3973870.255 *
RMSE_XY 1.411 *
IMAGE_SOURCE "BLACK AND WHITE FILM" *
SOURCE_IMAGE_ID "NAPP 6915 284" *
SOURCE_IMAGE_DATE 1994 04 21 *
SOURCE_DEM_DATE 1981 00 00 *
AGENCY "WESTERN MAPPING CENTER (WMC)" *
PRODUCER "ANALYTICAL SURVEYS INC." *
PRODUCTION_SYSTEM "ORBIT OR_RECTIFY V.5.2" *
STANDARD_VERSION 1996 12 *
METADATA_DATE 1998 11 30 *
DATA_FILE_SIZE 50858370 *
BYTE_COUNT 6570 * * * * * * * * * * * * * * * * * * * * * * * * * * * * * * * * * * * * * * * *
END_USGS_HEADER *
