BEGIN_USGS_DOQ_HEADER *
QUADRANGLE_NAME "LOS VIEJOS" *
QUADRANT SW *
NORTH_LATITUDE 35 56 15.000 *
WEST_LONGITUDE -120 00 00.000 *
SOUTH_LATITUDE 35 52 30.000 *
EAST_LONGITUDE -119 56 15.000 *
PRODUCTION_DATE 1998 11 24 *
RASTER_ORDER LEFT_RIGHT/TOP_BOTTOM *
BAND_ORGANIZATION "SINGLE FILE" *
BAND_CONTENT BLACK&WHITE *
BITS_PER_PIXEL 8 *
SAMPLES_AND_LINES 6570 7740 *
HORIZONTAL_DATUM NAD83 *
HORIZONTAL_COORDINATE_SYSTEM UTM *
COORDINATE_ZONE 11 *
HORIZONTAL_UNITS METERS *
HORIZONTAL_RESOLUTION 1.000 *
SECONDARY_HORIZONTAL_DATUM NAD27 *
XY_ORIGIN 228750.000 3981480.000 *
SECONDARY_XY_ORIGIN 228831.097 3981282.048 *
NATION US *
STATE CA *
NW_QUAD_CORNER_XY 229365.156 3981176.865 *
NE_QUAD_CORNER_XY 235004.947 3981005.204 *
SE_QUAD_CORNER_XY 234796.248 3974070.282 *
SW_QUAD_CORNER_XY 229152.005 3974241.821 *
SECONDARY_NW_QUAD_XY 229358.737 3980976.665 *
SECONDARY_NE_QUAD_XY 234998.662 3980805.000 *
SECONDARY_SE_QUAD_XY 234789.969 3973870.255 *
SECONDARY_SW_QUAD_XY 229145.592 3974041.797 *
RMSE_XY 2.103 *
IMAGE_SOURCE "BLACK AND WHITE FILM" *
SOURCE_IMAGE_ID "NAPP 6915 258" *
SOURCE_IMAGE_DATE 1994 04 21 *
SOURCE_DEM_DATE 1981 00 00 *
AGENCY "WESTERN MAPPING CENTER (WMC)" *
PRODUCER "ANALYTICAL SURVEYS INC." *
PRODUCTION_SYSTEM "ORBIT OR_RECTIFY V.5.2" *
STANDARD_VERSION 1996 12 *
METADATA_DATE 1998 11 30 *
DATA_FILE_SIZE 50858370 *
BYTE_COUNT 6570 * * * * * * * * * * * * * * * * * * * * * * * * * * * * * * * * * * * * * * * *
END_USGS_HEADER *
