BEGIN_USGS_DOQ_HEADER *
QUADRANGLE_NAME "MIRANDA PINE MOUNTAIN" 3.45 or 7.5-min. name*
QUADRANT NW quadrant indicator if cell size = 3.75-minutes*
WEST_LONGITUDE -120 7 30.000 signed deg min sec SDDD MM SS.SSS*
EAST_LONGITUDE -120 3 45.000 signed deg min sec SDDD MM SS.SSS*
NORTH_LATITUDE 35 7 30.000 signed deg min sec SDDD MM SS.SSS*
SOUTH_LATITUDE 35 3 45.000 signed deg min sec SDDD MM SS.SSS*
PRODUCTION_DATE 1996 4 4 yyyy mm dd*
RASTER_ORDER LEFT_RIGHT/TOP_BOTTOM video display order*
BAND_ORGANIZATION "SINGLE FILE" single file or BSQ, or BIL or BIP*
BAND_CONTENT BLACK&WHITE black&white or red green blue*
BITS_PER_PIXEL 8 radiometric resolution*
SAMPLES_AND_LINES 6593 7709 number of columns and rows*
HORIZONTAL_DATUM NAD83 primary horizontal datum*
HORIZONTAL_COORDINATE_SYSTEM UTM *
COORDINATE_ZONE 10 coordinate system zone number*
HORIZONTAL_UNITS METERS coordinate system units*
HORIZONTAL_RESOLUTION 1.00 pixel horiz. ground sample distance*
SECONDARY_HORIZONTAL_DATUM NAD27 secondary horizontal datum*
XY_ORIGIN 761596.000 3891160.000 coord. of upper left pixel pri. datum*
SECONDARY_XY_ORIGIN 761691.220 3890967.590 coord upper left pixel sec datum*
NATION US nation code*
STATE CA state fip code*
NW_QUAD_CORNER_XY 761986.460 3890688.940 XY coords. of pri. NW quad corner*
NE_QUAD_CORNER_XY 767683.490 3890855.340 XY coords. of pri. NE quad corner*
SE_QUAD_CORNER_XY 767888.060 3883921.110 XY coords. of pri. SE quad corner*
SW_QUAD_CORNER_XY 762186.660 3883754.840 XY coords. of pri. SW quad corner*
SECONDARY_NW_QUAD_XY 761992.540 3890491.080 XY coords. - sec. NW quad cor.*
SECONDARY_NE_QUAD_XY 767689.710 3890657.500 XY coords. - sec. NE quad cor.*
SECONDARY_SE_QUAD_XY 767894.270 3883723.450 XY coords. - sec. SE quad cor.*
SECONDARY_SW_QUAD_XY 762192.740 3883557.170 XY coords. - sec. SW quad cor.*
RMSE_XY 3.10 doq horiz. accuracy*
IMAGE_SOURCE "BLACK AND WHITE FILM" b&w, cir, natural color, other*
SOURCE_IMAGE_ID "NAPP 6926 7" source image id*
SOURCE_IMAGE_DATE 1994 9 4 source image date as yyyy mm dd*
SOURCE_DEM_DATE 1996 4 4 source dem date yyyy mm dd*
AGENCY "WESTERN MAPPING CENTER (WMC)" oversight agency*
PRODUCER "USDA FS GEOMETRONICS SERVICE CENTER" *
PRODUCTION_SYSTEM "DV2.6.1 6/95OV2.4 5/95" production system*
STANDARD_VERSION 1996 12 version of DOQ standard*
METADATA_DATE 1999 6 2 date created or changed, yyyy mm dd*
DATA_FILE_SIZE 50832030 data set size in bytes*
BYTE_COUNT 6593 header byte count* * * * * * * * * * * * * * * * * * * * * * * * * * * * * * * * * * * * * * * *
END_USGS_HEADER *
