BEGIN_USGS_DOQ_HEADER *
QUADRANGLE_NAME "CHIMNEY CANYON" 3.45 or 7.5-min. name*
QUADRANT NW quadrant indicator if cell size = 3.75-minutes*
WEST_LONGITUDE -120 15 0.000 signed deg min sec SDDD MM SS.SSS*
EAST_LONGITUDE -120 11 15.000 signed deg min sec SDDD MM SS.SSS*
NORTH_LATITUDE 35 7 30.000 signed deg min sec SDDD MM SS.SSS*
SOUTH_LATITUDE 35 3 45.000 signed deg min sec SDDD MM SS.SSS*
PRODUCTION_DATE 1996 4 5 yyyy mm dd*
RASTER_ORDER LEFT_RIGHT/TOP_BOTTOM video display order*
BAND_ORGANIZATION "SINGLE FILE" single file or BSQ, or BIL or BIP*
BAND_CONTENT BLACK&WHITE black&white or red green blue*
BITS_PER_PIXEL 8 radiometric resolution*
SAMPLES_AND_LINES 6584 7701 number of columns and rows*
HORIZONTAL_DATUM NAD83 primary horizontal datum*
HORIZONTAL_COORDINATE_SYSTEM UTM *
COORDINATE_ZONE 10 coordinate system zone number*
HORIZONTAL_UNITS METERS coordinate system units*
HORIZONTAL_RESOLUTION 1.00 pixel horiz. ground sample distance*
SECONDARY_HORIZONTAL_DATUM NAD27 secondary horizontal datum*
XY_ORIGIN 750202.000 3890827.000 coord. of upper left pixel pri. datum*
SECONDARY_XY_ORIGIN 750297.729 3890634.389 coord upper left pixel sec datum*
NATION US nation code*
STATE CA state fip code*
NW_QUAD_CORNER_XY 750592.614 3890366.908 XY coords. of pri. NW quad corner*
NE_QUAD_CORNER_XY 756289.441 3890526.142 XY coords. of pri. NE quad corner*
SE_QUAD_CORNER_XY 756485.284 3883592.170 XY coords. of pri. SE quad corner*
SW_QUAD_CORNER_XY 750784.095 3883433.061 XY coords. of pri. SW quad corner*
SECONDARY_NW_QUAD_XY 750598.432 3890169.050 XY coords. - sec. NW quad cor.*
SECONDARY_NE_QUAD_XY 756295.391 3890328.287 XY coords. - sec. NE quad cor.*
SECONDARY_SE_QUAD_XY 756491.229 3883394.502 XY coords. - sec. SE quad cor.*
SECONDARY_SW_QUAD_XY 750789.907 3883235.389 XY coords. - sec. SW quad cor.*
RMSE_XY 3.50 doq horiz. accuracy*
IMAGE_SOURCE "BLACK AND WHITE FILM" b&w, cir, natural color, other*
SOURCE_IMAGE_ID "NAPP 6927 207" source image id*
SOURCE_IMAGE_DATE 1994 9 4 source image date as yyyy mm dd*
SOURCE_DEM_DATE 1996 4 5 source dem date yyyy mm dd*
AGENCY "WESTERN MAPPING CENTER (WMC)" oversight agency*
PRODUCER "USFS" producer/contractor*
PRODUCTION_SYSTEM "DV2.6.1 6/95OV2.4 5/95" production system*
STANDARD_VERSION 1996 12 version of DOQ standard*
METADATA_DATE 1997 6 13 date created or changed, yyyy mm dd*
DATA_FILE_SIZE 50709968 data set size in bytes*
BYTE_COUNT 6584 header byte count* * * * * * * * * * * * * * * * * * * * * * * * * * * * * * * * * * * * * * * *
END_USGS_HEADER *
