BEGIN_USGS_DOQ_HEADER *
QUADRANGLE_NAME "NIPOMO" *
QUADRANT NE *
NORTH_LATITUDE 35 07 30.000 *
WEST_LONGITUDE -120 26 15.000 *
SOUTH_LATITUDE 35 03 45.000 *
EAST_LONGITUDE -120 22 30.000 *
PRODUCTION_DATE 1998 10 29 *
RASTER_ORDER LEFT_RIGHT/TOP_BOTTOM *
BAND_ORGANIZATION "SINGLE FILE" *
BAND_CONTENT BLACK&WHITE *
BITS_PER_PIXEL 8 *
SAMPLES_AND_LINES 6600 7710 *
HORIZONTAL_DATUM NAD83 *
HORIZONTAL_COORDINATE_SYSTEM UTM *
COORDINATE_ZONE 10 *
HORIZONTAL_UNITS METERS *
HORIZONTAL_RESOLUTION 1.000 *
SECONDARY_HORIZONTAL_DATUM NAD27 *
XY_ORIGIN 733110.000 3890370.000 *
SECONDARY_XY_ORIGIN 733206.143 3890177.142 *
NATION US *
STATE CA *
NW_QUAD_CORNER_XY 733502.732 3889910.723 *
NE_QUAD_CORNER_XY 739199.262 3890059.199 *
SE_QUAD_CORNER_XY 739382.020 3883125.594 *
SW_QUAD_CORNER_XY 733681.130 3882977.234 *
SECONDARY_NW_QUAD_XY 733508.153 3889712.853 *
SECONDARY_NE_QUAD_XY 739204.815 3889861.333 *
SECONDARY_SE_QUAD_XY 739387.568 3882927.915 *
SECONDARY_SW_QUAD_XY 733686.546 3882779.552 *
RMSE_XY 2.893 *
IMAGE_SOURCE "BLACK AND WHITE FILM" *
SOURCE_IMAGE_ID "NAPP 6916 56" *
SOURCE_IMAGE_DATE 1994 05 02 *
SOURCE_IMAGE_ID "NAPP 6916 57" *
SOURCE_IMAGE_DATE 1994 05 02 *
SOURCE_IMAGE_ID "NAPP 6916 54" *
SOURCE_IMAGE_DATE 1994 05 02 *
SOURCE_DEM_DATE 1963 01 01 *
AGENCY "WESTERN MAPPING CENTER (WMC)" *
PRODUCER "ANALYTICAL SURVEYS INC." *
PRODUCTION_SYSTEM "ORBIT OR_RECTIFY V.5.2" *
STANDARD_VERSION 1996 12 *
METADATA_DATE 1998 12 15 *
DATA_FILE_SIZE 50892600 *
BYTE_COUNT 6600 * * * * * * * * * * * * * * * * * * * * * * * * * * * * * * * * * * * *
END_USGS_HEADER *
