BEGIN_USGS_DOQ_HEADER *
QUADRANGLE_NAME "NIPOMO" *
QUADRANT NW *
NORTH_LATITUDE 35 07 30.000 *
WEST_LONGITUDE -120 30 00.000 *
SOUTH_LATITUDE 35 03 45.000 *
EAST_LONGITUDE -120 26 15.000 *
PRODUCTION_DATE 1998 10 29 *
RASTER_ORDER LEFT_RIGHT/TOP_BOTTOM *
BAND_ORGANIZATION "SINGLE FILE" *
BAND_CONTENT BLACK&WHITE *
BITS_PER_PIXEL 8 *
SAMPLES_AND_LINES 6600 7710 *
HORIZONTAL_DATUM NAD83 *
HORIZONTAL_COORDINATE_SYSTEM UTM *
COORDINATE_ZONE 10 *
HORIZONTAL_UNITS METERS *
HORIZONTAL_RESOLUTION 1.000 *
SECONDARY_HORIZONTAL_DATUM NAD27 *
XY_ORIGIN 727410.000 3890220.000 *
SECONDARY_XY_ORIGIN 727506.281 3890027.058 *
NATION US *
STATE CA *
NW_QUAD_CORNER_XY 727806.298 3889765.831 *
NE_QUAD_CORNER_XY 733502.732 3889910.723 *
SE_QUAD_CORNER_XY 733681.130 3882977.234 *
SW_QUAD_CORNER_XY 727980.336 3882832.457 *
SECONDARY_NW_QUAD_XY 727811.586 3889567.959 *
SECONDARY_NE_QUAD_XY 733508.153 3889712.853 *
SECONDARY_SE_QUAD_XY 733686.546 3882779.552 *
SECONDARY_SW_QUAD_XY 727985.619 3882634.772 *
RMSE_XY 3.005 *
IMAGE_SOURCE "BLACK AND WHITE FILM" *
SOURCE_IMAGE_ID "NAPP 6921 60" *
SOURCE_IMAGE_DATE 1994 09 03 *
SOURCE_DEM_DATE 1963 01 01 *
AGENCY "WESTERN MAPPING CENTER (WMC)" *
PRODUCER "ANALYTICAL SURVEYS INC." *
PRODUCTION_SYSTEM "ORBIT OR_RECTIFY V.5.2" *
STANDARD_VERSION 1996 12 *
METADATA_DATE 1999 02 02 *
DATA_FILE_SIZE 50892600 *
BYTE_COUNT 6600 * * * * * * * * * * * * * * * * * * * * * * * * * * * * * * * * * * * * * * * *
END_USGS_HEADER *
