BEGIN_USGS_DOQ_HEADER *
QUADRANGLE_NAME "OCEANO" *
QUADRANT NW *
NORTH_LATITUDE 35 07 30.000 *
WEST_LONGITUDE -120 37 30.000 *
SOUTH_LATITUDE 35 03 45.000 *
EAST_LONGITUDE -120 33 45.000 *
PRODUCTION_DATE 1998 10 29 *
RASTER_ORDER LEFT_RIGHT/TOP_BOTTOM *
BAND_ORGANIZATION "SINGLE FILE" *
BAND_CONTENT BLACK&WHITE *
BITS_PER_PIXEL 8 *
SAMPLES_AND_LINES 6570 7710 *
HORIZONTAL_DATUM NAD83 *
HORIZONTAL_COORDINATE_SYSTEM UTM *
COORDINATE_ZONE 10 *
HORIZONTAL_UNITS METERS *
HORIZONTAL_RESOLUTION 1.000 *
SECONDARY_HORIZONTAL_DATUM NAD27 *
XY_ORIGIN 716010.000 3889950.000 *
SECONDARY_XY_ORIGIN 716106.500 3889756.995 *
NATION US *
STATE CA *
NW_QUAD_CORNER_XY 716413.702 3889486.802 *
NE_QUAD_CORNER_XY 722109.955 3889624.525 *
SE_QUAD_CORNER_XY 722279.634 3882691.262 *
SW_QUAD_CORNER_XY 716579.023 3882553.647 *
SECONDARY_NW_QUAD_XY 716418.726 3889288.922 *
SECONDARY_NE_QUAD_XY 722115.111 3889426.649 *
SECONDARY_SE_QUAD_XY 722284.785 3882493.573 *
SECONDARY_SW_QUAD_XY 716584.042 3882355.955 *
RMSE_XY 0.971 *
IMAGE_SOURCE "BLACK AND WHITE FILM" *
SOURCE_IMAGE_ID "NAPP 6928 71" *
SOURCE_IMAGE_DATE 1994 09 15 *
SOURCE_DEM_DATE 1987 01 01 *
AGENCY "WESTERN MAPPING CENTER (WMC)" *
PRODUCER "ANALYTICAL SURVEYS INC." *
PRODUCTION_SYSTEM "ORBIT OR_RECTIFY V.5.2" *
STANDARD_VERSION 1996 12 *
METADATA_DATE 1998 12 14 *
DATA_FILE_SIZE 50661270 *
BYTE_COUNT 6570 * * * * * * * * * * * * * * * * * * * * * * * * * * * * * * * * * * * * * * * *
END_USGS_HEADER *
