BEGIN_USGS_DOQ_HEADER *
QUADRANGLE_NAME "OCEANO" *
QUADRANT SW *
NORTH_LATITUDE 35 03 45.000 *
WEST_LONGITUDE -120 37 30.000 *
SOUTH_LATITUDE 35 00 00.000 *
EAST_LONGITUDE -120 33 45.000 *
PRODUCTION_DATE 1998 10 29 *
RASTER_ORDER LEFT_RIGHT/TOP_BOTTOM *
BAND_ORGANIZATION "SINGLE FILE" *
BAND_CONTENT BLACK&WHITE *
BITS_PER_PIXEL 8 *
SAMPLES_AND_LINES 6600 7710 *
HORIZONTAL_DATUM NAD83 *
HORIZONTAL_COORDINATE_SYSTEM UTM *
COORDINATE_ZONE 10 *
HORIZONTAL_UNITS METERS *
HORIZONTAL_RESOLUTION 1.000 *
SECONDARY_HORIZONTAL_DATUM NAD27 *
XY_ORIGIN 716160.000 3883020.000 *
SECONDARY_XY_ORIGIN 716256.615 3882827.140 *
NATION US *
STATE CA *
NW_QUAD_CORNER_XY 716579.023 3882553.647 *
NE_QUAD_CORNER_XY 722279.634 3882691.262 *
SE_QUAD_CORNER_XY 722449.048 3875758.057 *
SW_QUAD_CORNER_XY 716744.086 3875620.552 *
SECONDARY_NW_QUAD_XY 716584.042 3882355.955 *
SECONDARY_NE_QUAD_XY 722284.785 3882493.573 *
SECONDARY_SE_QUAD_XY 722454.195 3875560.556 *
SECONDARY_SW_QUAD_XY 716749.100 3875423.047 *
RMSE_XY 1.944 *
IMAGE_SOURCE "BLACK AND WHITE FILM" *
SOURCE_IMAGE_ID "NAPP 6928 69" *
SOURCE_IMAGE_DATE 1994 09 15 *
SOURCE_DEM_DATE 1987 01 01 *
AGENCY "WESTERN MAPPING CENTER (WMC)" *
PRODUCER "ANALYTICAL SURVEYS INC." *
PRODUCTION_SYSTEM "ORBIT OR_RECTIFY V.5.2" *
STANDARD_VERSION 1996 12 *
METADATA_DATE 1998 11 10 *
DATA_FILE_SIZE 50892600 *
BYTE_COUNT 6600 * * * * * * * * * * * * * * * * * * * * * * * * * * * * * * * * * * * * * * * *
END_USGS_HEADER *
