BEGIN_USGS_DOQ_HEADER *
QUADRANGLE_NAME "LOS MACHOS HILLS" 3.45 or 7.5-min. name*
QUADRANT NE quadrant indicator if cell size = 3.75-minutes*
WEST_LONGITUDE -120 11 15.000 signed deg min sec SDDD MM SS.SSS*
EAST_LONGITUDE -120 7 30.000 signed deg min sec SDDD MM SS.SSS*
NORTH_LATITUDE 35 15 0.000 signed deg min sec SDDD MM SS.SSS*
SOUTH_LATITUDE 35 11 15.000 signed deg min sec SDDD MM SS.SSS*
PRODUCTION_DATE 1996 3 28 yyyy mm dd*
RASTER_ORDER LEFT_RIGHT/TOP_BOTTOM video display order*
BAND_ORGANIZATION "SINGLE FILE" single file or BSQ, or BIL or BIP*
BAND_CONTENT BLACK&WHITE black&white or red green blue*
BITS_PER_PIXEL 8 radiometric resolution*
SAMPLES_AND_LINES 6580 7705 number of columns and rows*
HORIZONTAL_DATUM NAD83 primary horizontal datum*
HORIZONTAL_COORDINATE_SYSTEM UTM *
COORDINATE_ZONE 10 coordinate system zone number*
HORIZONTAL_UNITS METERS coordinate system units*
HORIZONTAL_RESOLUTION 1.00 pixel horiz. ground sample distance*
SECONDARY_HORIZONTAL_DATUM NAD27 secondary horizontal datum*
XY_ORIGIN 755507.000 3904858.000 coord. of upper left pixel pri. datum*
SECONDARY_XY_ORIGIN 755602.194 3904665.409 coord upper left pixel sec datum*
NATION US nation code*
STATE CA state fip code*
NW_QUAD_CORNER_XY 755896.838 3904394.250 XY coords. of pri. NW quad corner*
NE_QUAD_CORNER_XY 761585.022 3904557.326 XY coords. of pri. NE quad corner*
SE_QUAD_CORNER_XY 761785.853 3897623.118 XY coords. of pri. SE quad corner*
SW_QUAD_CORNER_XY 756093.292 3897460.169 XY coords. of pri. SW quad corner*
SECONDARY_NW_QUAD_XY 755902.799 3904196.024 XY coords. - sec. NW quad cor.*
SECONDARY_NE_QUAD_XY 761591.116 3904359.103 XY coords. - sec. NE quad cor.*
SECONDARY_SE_QUAD_XY 761791.941 3897425.081 XY coords. - sec. SE quad cor.*
SECONDARY_SW_QUAD_XY 756099.247 3897262.128 XY coords. - sec. SW quad cor.*
RMSE_XY 2.90 doq horiz. accuracy*
IMAGE_SOURCE "BLACK AND WHITE FILM" b&w, cir, natural color, other*
SOURCE_IMAGE_ID "NAPP 6927 236" source image id*
SOURCE_IMAGE_DATE 1994 9 4 source image date as yyyy mm dd*
SOURCE_DEM_DATE 1996 3 28 source dem date yyyy mm dd*
AGENCY "WESTERN MAPPING CENTER (WMC)" oversight agency*
PRODUCER "USFS" producer/contractor*
PRODUCTION_SYSTEM "DV2.6.1 6/95OV2.4 5/95" production system*
STANDARD_VERSION 1996 12 version of DOQ standard*
METADATA_DATE 1997 6 13 date created or changed, yyyy mm dd*
DATA_FILE_SIZE 50705480 data set size in bytes*
BYTE_COUNT 6580 header byte count* * * * * * * * * * * * * * * * * * * * * * * * * * * * * * * * * * * * * * * *
END_USGS_HEADER *
