BEGIN_USGS_DOQ_HEADER *
QUADRANGLE_NAME "TAR SPRING RIDGE" 3.45 or 7.5-min. name*
QUADRANT SW quadrant indicator if cell size = 3.75-minutes*
WEST_LONGITUDE -120 30 0.000 signed deg min sec SDDD MM SS.SSS*
EAST_LONGITUDE -120 26 15.000 signed deg min sec SDDD MM SS.SSS*
NORTH_LATITUDE 35 11 15.000 signed deg min sec SDDD MM SS.SSS*
SOUTH_LATITUDE 35 7 30.000 signed deg min sec SDDD MM SS.SSS*
PRODUCTION_DATE 1996 3 22 yyyy mm dd*
RASTER_ORDER LEFT_RIGHT/TOP_BOTTOM video display order*
BAND_ORGANIZATION "SINGLE FILE" single file or BSQ, or BIL or BIP*
BAND_CONTENT BLACK&WHITE black&white or red green blue*
BITS_PER_PIXEL 8 radiometric resolution*
SAMPLES_AND_LINES 6564 7686 number of columns and rows*
HORIZONTAL_DATUM NAD83 primary horizontal datum*
HORIZONTAL_COORDINATE_SYSTEM UTM *
COORDINATE_ZONE 10 coordinate system zone number*
HORIZONTAL_UNITS METERS coordinate system units*
HORIZONTAL_RESOLUTION 1.00 pixel horiz. ground sample distance*
SECONDARY_HORIZONTAL_DATUM NAD27 secondary horizontal datum*
XY_ORIGIN 727240.000 3897145.000 coord. of upper left pixel pri. datum*
SECONDARY_XY_ORIGIN 727336.165 3896951.938 coord upper left pixel sec datum*
NATION US nation code*
STATE CA state fip code*
NW_QUAD_CORNER_XY 727631.988 3896699.264 XY coords. of pri. NW quad corner*
NE_QUAD_CORNER_XY 733324.056 3896844.268 XY coords. of pri. NE quad corner*
SE_QUAD_CORNER_XY 733502.732 3889910.723 XY coords. of pri. SE quad corner*
SW_QUAD_CORNER_XY 727806.298 3889765.832 XY coords. of pri. SW quad corner*
SECONDARY_NW_QUAD_XY 727637.281 3896501.205 XY coords. - sec. NW quad cor.*
SECONDARY_NE_QUAD_XY 733329.482 3896646.213 XY coords. - sec. NE quad cor.*
SECONDARY_SE_QUAD_XY 733508.153 3889712.854 XY coords. - sec. SE quad cor.*
SECONDARY_SW_QUAD_XY 727811.586 3889567.959 XY coords. - sec. SW quad cor.*
RMSE_XY 5.50 doq horiz. accuracy*
IMAGE_SOURCE "BLACK AND WHITE FILM" b&w, cir, natural color, other*
SOURCE_IMAGE_ID "NAPP 6921 62" source image id*
SOURCE_IMAGE_DATE 1994 9 3 source image date as yyyy mm dd*
SOURCE_DEM_DATE 1996 3 22 source dem date yyyy mm dd*
AGENCY "WESTERN MAPPING CENTER (WMC)" oversight agency*
PRODUCER "USFS" producer/contractor*
PRODUCTION_SYSTEM "DV2.6.1 6/95OV2.4 5/95" production system*
STANDARD_VERSION 1996 12 version of DOQ standard*
METADATA_DATE 1997 6 13 date created or changed, yyyy mm dd*
DATA_FILE_SIZE 50457468 data set size in bytes*
BYTE_COUNT 6564 header byte count* * * * * * * * * * * * * * * * * * * * * * * * * * * * * * * * * * * * * * * *
END_USGS_HEADER *
