BEGIN_USGS_DOQ_HEADER *
QUADRANGLE_NAME "PISMO BEACH" *
QUADRANT NE *
NORTH_LATITUDE 35 15 00.000 *
WEST_LONGITUDE -120 41 15.000 *
SOUTH_LATITUDE 35 11 15.000 *
EAST_LONGITUDE -120 37 30.000 *
PRODUCTION_DATE 1998 10 29 *
RASTER_ORDER LEFT_RIGHT/TOP_BOTTOM *
BAND_ORGANIZATION "SINGLE FILE" *
BAND_CONTENT BLACK&WHITE *
BITS_PER_PIXEL 8 *
SAMPLES_AND_LINES 6570 7680 *
HORIZONTAL_DATUM NAD83 *
HORIZONTAL_COORDINATE_SYSTEM UTM *
COORDINATE_ZONE 10 *
HORIZONTAL_UNITS METERS *
HORIZONTAL_RESOLUTION 1.000 *
SECONDARY_HORIZONTAL_DATUM NAD27 *
XY_ORIGIN 709980.000 3903660.000 *
SECONDARY_XY_ORIGIN 710076.379 3903466.650 *
NATION US *
STATE CA *
NW_QUAD_CORNER_XY 710394.858 3903218.940 *
NE_QUAD_CORNER_XY 716082.287 3903353.289 *
SE_QUAD_CORNER_XY 716248.124 3896420.015 *
SW_QUAD_CORNER_XY 710556.323 3896285.771 *
SECONDARY_NW_QUAD_XY 710399.758 3903020.686 *
SECONDARY_NE_QUAD_XY 716087.320 3903155.038 *
SECONDARY_SE_QUAD_XY 716253.152 3896221.950 *
SECONDARY_SW_QUAD_XY 710561.219 3896087.702 *
RMSE_XY 1.548 *
IMAGE_SOURCE "BLACK AND WHITE FILM" *
SOURCE_IMAGE_ID "NAPP 6921 30" *
SOURCE_IMAGE_DATE 1994 09 03 *
SOURCE_DEM_DATE 1988 01 01 *
AGENCY "WESTERN MAPPING CENTER (WMC)" *
PRODUCER "ANALYTICAL SURVEYS INC." *
PRODUCTION_SYSTEM "ORBIT OR_RECTIFY V.5.2" *
STANDARD_VERSION 1996 12 *
METADATA_DATE 1998 11 09 *
DATA_FILE_SIZE 50464170 *
BYTE_COUNT 6570 * * * * * * * * * * * * * * * * * * * * * * * * * * * * * * * * * * * * * * * *
END_USGS_HEADER *
