BEGIN_USGS_DOQ_HEADER *
QUADRANGLE_NAME "PISMO BEACH" *
QUADRANT SE *
NORTH_LATITUDE 35 11 15.000 *
WEST_LONGITUDE -120 41 15.000 *
SOUTH_LATITUDE 35 07 30.000 *
EAST_LONGITUDE -120 37 30.000 *
PRODUCTION_DATE 1998 10 29 *
RASTER_ORDER LEFT_RIGHT/TOP_BOTTOM *
BAND_ORGANIZATION "SINGLE FILE" *
BAND_CONTENT BLACK&WHITE *
BITS_PER_PIXEL 8 *
SAMPLES_AND_LINES 6570 7710 *
HORIZONTAL_DATUM NAD83 *
HORIZONTAL_COORDINATE_SYSTEM UTM *
COORDINATE_ZONE 10 *
HORIZONTAL_UNITS METERS *
HORIZONTAL_RESOLUTION 1.000 *
SECONDARY_HORIZONTAL_DATUM NAD27 *
XY_ORIGIN 710160.000 3896730.000 *
SECONDARY_XY_ORIGIN 710256.494 3896536.806 *
NATION US *
STATE CA *
NW_QUAD_CORNER_XY 710556.323 3896285.771 *
NE_QUAD_CORNER_XY 716248.124 3896420.015 *
SE_QUAD_CORNER_XY 716413.702 3889486.802 *
SW_QUAD_CORNER_XY 710717.537 3889352.662 *
SECONDARY_NW_QUAD_XY 710561.219 3896087.702 *
SECONDARY_NE_QUAD_XY 716253.152 3896221.950 *
SECONDARY_SE_QUAD_XY 716418.726 3889288.922 *
SECONDARY_SW_QUAD_XY 710722.429 3889154.780 *
RMSE_XY 2.800 *
IMAGE_SOURCE "BLACK AND WHITE FILM" *
SOURCE_IMAGE_ID "NAPP 6921 32" *
SOURCE_IMAGE_DATE 1994 09 03 *
SOURCE_DEM_DATE 1988 01 01 *
AGENCY "WESTERN MAPPING CENTER (WMC)" *
PRODUCER "ANALYTICAL SURVEYS INC." *
PRODUCTION_SYSTEM "ORBIT OR_RECTIFY V.5.2" *
STANDARD_VERSION 1996 12 *
METADATA_DATE 1998 11 09 *
DATA_FILE_SIZE 50661270 *
BYTE_COUNT 6570 * * * * * * * * * * * * * * * * * * * * * * * * * * * * * * * * * * * * * * * *
END_USGS_HEADER *
