BEGIN_USGS_DOQ_HEADER *
QUADRANGLE_NAME "PISMO BEACH" *
QUADRANT SW *
NORTH_LATITUDE 35 11 15.000 *
WEST_LONGITUDE -120 45 00.000 *
SOUTH_LATITUDE 35 07 30.000 *
EAST_LONGITUDE -120 41 15.000 *
PRODUCTION_DATE 1998 10 29 *
RASTER_ORDER LEFT_RIGHT/TOP_BOTTOM *
BAND_ORGANIZATION "SINGLE FILE" *
BAND_CONTENT BLACK&WHITE *
BITS_PER_PIXEL 8 *
SAMPLES_AND_LINES 6570 7710 *
HORIZONTAL_DATUM NAD83 *
HORIZONTAL_COORDINATE_SYSTEM UTM *
COORDINATE_ZONE 10 *
HORIZONTAL_UNITS METERS *
HORIZONTAL_RESOLUTION 1.000 *
SECONDARY_HORIZONTAL_DATUM NAD27 *
XY_ORIGIN 704460.000 3896610.000 *
SECONDARY_XY_ORIGIN 704556.604 3896416.760 *
NATION US *
STATE CA *
NW_QUAD_CORNER_XY 704864.608 3896155.112 *
NE_QUAD_CORNER_XY 710556.323 3896285.771 *
SE_QUAD_CORNER_XY 710717.537 3889352.662 *
SW_QUAD_CORNER_XY 705021.458 3889222.105 *
SECONDARY_NW_QUAD_XY 704869.371 3895957.041 *
SECONDARY_NE_QUAD_XY 710561.219 3896087.702 *
SECONDARY_SE_QUAD_XY 710722.429 3889154.780 *
SECONDARY_SW_QUAD_XY 705026.217 3889024.220 *
RMSE_XY 1.812 *
IMAGE_SOURCE "BLACK AND WHITE FILM" *
SOURCE_IMAGE_ID "NAPP 6928 36" *
SOURCE_IMAGE_DATE 1994 09 15 *
SOURCE_IMAGE_ID "NAPP 6920 227" *
SOURCE_IMAGE_DATE 1994 05 13 *
SOURCE_DEM_DATE 1988 01 01 *
AGENCY "WESTERN MAPPING CENTER (WMC)" *
PRODUCER "ANALYTICAL SURVEYS INC." *
PRODUCTION_SYSTEM "ORBIT OR_RECTIFY V.5.2" *
STANDARD_VERSION 1996 12 *
METADATA_DATE 1998 11 09 *
DATA_FILE_SIZE 50661270 *
BYTE_COUNT 6570 * * * * * * * * * * * * * * * * * * * * * * * * * * * * * * * * * * * * * *
END_USGS_HEADER *
