BEGIN_USGS_DOQ_HEADER *
QUADRANGLE_NAME "PORT SAN LUIS" *
QUADRANT NW *
NORTH_LATITUDE 35 15 00.000 *
WEST_LONGITUDE -120 52 30.000 *
SOUTH_LATITUDE 35 11 15.000 *
EAST_LONGITUDE -120 48 45.000 *
PRODUCTION_DATE 1998 11 03 *
RASTER_ORDER LEFT_RIGHT/TOP_BOTTOM *
BAND_ORGANIZATION "SINGLE FILE" *
BAND_CONTENT BLACK&WHITE *
BITS_PER_PIXEL 8 *
SAMPLES_AND_LINES 6540 7699 *
HORIZONTAL_DATUM NAD83 *
HORIZONTAL_COORDINATE_SYSTEM UTM *
COORDINATE_ZONE 10 *
HORIZONTAL_UNITS METERS *
HORIZONTAL_RESOLUTION 1.000 *
SECONDARY_HORIZONTAL_DATUM NAD27 *
XY_ORIGIN 692940.000 3903289.000 *
SECONDARY_XY_ORIGIN 693036.678 3903095.410 *
NATION US *
STATE CA *
NW_QUAD_CORNER_XY 693333.067 3902837.422 *
NE_QUAD_CORNER_XY 699020.250 3902961.007 *
SE_QUAD_CORNER_XY 699172.974 3896028.038 *
SW_QUAD_CORNER_XY 693481.422 3895904.549 *
SECONDARY_NW_QUAD_XY 693337.570 3902639.159 *
SECONDARY_NE_QUAD_XY 699024.885 3902762.747 *
SECONDARY_SE_QUAD_XY 699177.605 3895829.964 *
SECONDARY_SW_QUAD_XY 693485.920 3895706.472 *
RMSE_XY 4.662 *
IMAGE_SOURCE "BLACK AND WHITE FILM" *
SOURCE_IMAGE_ID "NAPP 6923 194" *
SOURCE_IMAGE_DATE 1994 05 28 *
SOURCE_IMAGE_ID "NAPP 6923 193" *
SOURCE_IMAGE_DATE 1994 05 28 *
SOURCE_DEM_DATE 1994 01 01 *
AGENCY "WESTERN MAPPING CENTER (WMC)" *
PRODUCER "ANALYTICAL SURVEYS INC." *
PRODUCTION_SYSTEM "ORBIT OR_RECTIFY V.5.2" *
STANDARD_VERSION 1996 12 *
METADATA_DATE 1998 11 09 *
DATA_FILE_SIZE 50358000 *
BYTE_COUNT 6540 * * * * * * * * * * * * * * * * * * * * * * * * * * * * * * * * * * * * *
END_USGS_HEADER *
