BEGIN_USGS_DOQ_HEADER *
QUADRANGLE_NAME "PORT SAN LUIS" *
QUADRANT SE *
NORTH_LATITUDE 35 11 15.000 *
WEST_LONGITUDE -120 48 45.000 *
SOUTH_LATITUDE 35 07 30.000 *
EAST_LONGITUDE -120 45 00.000 *
PRODUCTION_DATE 1998 10 29 *
RASTER_ORDER LEFT_RIGHT/TOP_BOTTOM *
BAND_ORGANIZATION "SINGLE FILE" *
BAND_CONTENT BLACK&WHITE *
BITS_PER_PIXEL 8 *
SAMPLES_AND_LINES 6570 7680 *
HORIZONTAL_DATUM NAD83 *
HORIZONTAL_COORDINATE_SYSTEM UTM *
COORDINATE_ZONE 10 *
HORIZONTAL_UNITS METERS *
HORIZONTAL_RESOLUTION 1.000 *
SECONDARY_HORIZONTAL_DATUM NAD27 *
XY_ORIGIN 698760.000 3896460.000 *
SECONDARY_XY_ORIGIN 698856.686 3896266.657 *
NATION US *
STATE CA *
NW_QUAD_CORNER_XY 699172.974 3896028.038 *
NE_QUAD_CORNER_XY 704864.608 3896155.112 *
SE_QUAD_CORNER_XY 705021.458 3889222.105 *
SW_QUAD_CORNER_XY 699325.461 3889095.131 *
SECONDARY_NW_QUAD_XY 699177.605 3895829.964 *
SECONDARY_NE_QUAD_XY 704869.371 3895957.041 *
SECONDARY_SE_QUAD_XY 705026.217 3889024.220 *
SECONDARY_SW_QUAD_XY 699330.088 3888897.243 *
RMSE_XY 3.073 *
IMAGE_SOURCE "BLACK AND WHITE FILM" *
SOURCE_IMAGE_ID "NAPP 6920 227" *
SOURCE_IMAGE_DATE 1994 05 13 *
SOURCE_IMAGE_ID "NAPP 6920 229" *
SOURCE_IMAGE_DATE 1994 05 13 *
SOURCE_DEM_DATE 1994 01 01 *
AGENCY "WESTERN MAPPING CENTER (WMC)" *
PRODUCER "ANALYTICAL SURVEYS INC." *
PRODUCTION_SYSTEM "ORBIT OR_RECTIFY V.5.2" *
STANDARD_VERSION 1996 12 *
METADATA_DATE 1998 11 09 *
DATA_FILE_SIZE 50464170 *
BYTE_COUNT 6570 * * * * * * * * * * * * * * * * * * * * * * * * * * * * * * * * * * * * * *
END_USGS_HEADER *
