BEGIN_USGS_DOQ_HEADER *
QUADRANGLE_NAME "PORT SAN LUIS OE W" *
QUADRANT NE *
NORTH_LATITUDE 35 15 00.000 *
WEST_LONGITUDE -120 56 15.000 *
SOUTH_LATITUDE 35 11 15.000 *
EAST_LONGITUDE -120 52 30.000 *
PRODUCTION_DATE 1998 10 27 *
RASTER_ORDER LEFT_RIGHT/TOP_BOTTOM *
BAND_ORGANIZATION "SINGLE FILE" *
BAND_CONTENT BLACK&WHITE *
BITS_PER_PIXEL 8 *
SAMPLES_AND_LINES 6570 7680 *
HORIZONTAL_DATUM NAD83 *
HORIZONTAL_COORDINATE_SYSTEM UTM *
COORDINATE_ZONE 10 *
HORIZONTAL_UNITS METERS *
HORIZONTAL_RESOLUTION 1.000 *
SECONDARY_HORIZONTAL_DATUM NAD27 *
XY_ORIGIN 687240.000 3903150.000 *
SECONDARY_XY_ORIGIN 687336.776 3902956.323 *
NATION US *
STATE CA *
NW_QUAD_CORNER_XY 687645.961 3902717.424 *
NE_QUAD_CORNER_XY 693333.067 3902837.422 *
SE_QUAD_CORNER_XY 693481.422 3895904.549 *
SW_QUAD_CORNER_XY 687789.947 3895784.645 *
SECONDARY_NW_QUAD_XY 687650.331 3902519.158 *
SECONDARY_NE_QUAD_XY 693337.570 3902639.159 *
SECONDARY_SE_QUAD_XY 693485.920 3895706.472 *
SECONDARY_SW_QUAD_XY 687794.312 3895586.564 *
RMSE_XY 3.731 *
IMAGE_SOURCE "BLACK AND WHITE FILM" *
SOURCE_IMAGE_ID "NAPP 6923 177" *
SOURCE_IMAGE_DATE 1994 05 28 *
SOURCE_DEM_DATE 1994 01 01 *
AGENCY "WESTERN MAPPING CENTER (WMC)" *
PRODUCER "ANALYTICAL SURVEYS INC." *
PRODUCTION_SYSTEM "ORBIT OR_RECTIFY V.5.2" *
STANDARD_VERSION 1996 12 *
METADATA_DATE 1998 11 02 *
DATA_FILE_SIZE 50464170 *
BYTE_COUNT 6570 * * * * * * * * * * * * * * * * * * * * * * * * * * * * * * * * * * * * * * * *
END_USGS_HEADER *
