BEGIN_USGS_DOQ_HEADER *
QUADRANGLE_NAME "CALIFORNIA VALLEY" *
QUADRANT NE *
NORTH_LATITUDE 35 22 30.000 *
WEST_LONGITUDE -120 03 45.000 *
SOUTH_LATITUDE 35 18 45.000 *
EAST_LONGITUDE -120 00 00.000 *
PRODUCTION_DATE 1998 11 20 *
RASTER_ORDER LEFT_RIGHT/TOP_BOTTOM *
BAND_ORGANIZATION "SINGLE FILE" *
BAND_CONTENT BLACK&WHITE *
BITS_PER_PIXEL 8 *
SAMPLES_AND_LINES 6600 7740 *
HORIZONTAL_DATUM NAD83 *
HORIZONTAL_COORDINATE_SYSTEM UTM *
COORDINATE_ZONE 10 *
HORIZONTAL_UNITS METERS *
HORIZONTAL_RESOLUTION 1.000 *
SECONDARY_HORIZONTAL_DATUM NAD27 *
XY_ORIGIN 766470.000 3919080.000 *
SECONDARY_XY_ORIGIN 766564.719 3918887.507 *
NATION US *
STATE CA *
NW_QUAD_CORNER_XY 766861.940 3918592.827 *
NE_QUAD_CORNER_XY 772541.559 3918763.351 *
SE_QUAD_CORNER_XY 772751.795 3911828.777 *
SW_QUAD_CORNER_XY 767067.785 3911658.384 *
SECONDARY_NW_QUAD_XY 766868.177 3918394.240 *
SECONDARY_NE_QUAD_XY 772547.929 3918564.768 *
SECONDARY_SE_QUAD_XY 772758.160 3911630.378 *
SECONDARY_SW_QUAD_XY 767074.016 3911459.981 *
RMSE_XY 0.911 *
IMAGE_SOURCE "BLACK AND WHITE FILM" *
SOURCE_IMAGE_ID "NAPP 6926 16" *
SOURCE_IMAGE_DATE 1994 09 04 *
SOURCE_DEM_DATE 1964 01 01 *
AGENCY "WESTERN MAPPING CENTER (WMC)" *
PRODUCER "ANALYTICAL SURVEYS INC." *
PRODUCTION_SYSTEM "ORBIT OR_RECTIFY V.5.2" *
STANDARD_VERSION 1996 12 *
METADATA_DATE 1998 11 24 *
DATA_FILE_SIZE 51090600 *
BYTE_COUNT 6600 * * * * * * * * * * * * * * * * * * * * * * * * * * * * * * * * * * * * * * * *
END_USGS_HEADER *
