BEGIN_USGS_DOQ_HEADER *
QUADRANGLE_NAME "CALIFORNIA VALLEY" *
QUADRANT SE *
NORTH_LATITUDE 35 18 45.000 *
WEST_LONGITUDE -120 03 45.000 *
SOUTH_LATITUDE 35 15 00.000 *
EAST_LONGITUDE -120 00 00.000 *
PRODUCTION_DATE 1998 11 20 *
RASTER_ORDER LEFT_RIGHT/TOP_BOTTOM *
BAND_ORGANIZATION "SINGLE FILE" *
BAND_CONTENT BLACK&WHITE *
BITS_PER_PIXEL 8 *
SAMPLES_AND_LINES 6630 7740 *
HORIZONTAL_DATUM NAD83 *
HORIZONTAL_COORDINATE_SYSTEM UTM *
COORDINATE_ZONE 10 *
HORIZONTAL_UNITS METERS *
HORIZONTAL_RESOLUTION 1.000 *
SECONDARY_HORIZONTAL_DATUM NAD27 *
XY_ORIGIN 766650.000 3912150.000 *
SECONDARY_XY_ORIGIN 766744.649 3911957.610 *
NATION US *
STATE CA *
NW_QUAD_CORNER_XY 767067.785 3911658.384 *
NE_QUAD_CORNER_XY 772751.795 3911828.777 *
SE_QUAD_CORNER_XY 772961.707 3904894.256 *
SW_QUAD_CORNER_XY 767273.311 3904723.994 *
SECONDARY_NW_QUAD_XY 767074.016 3911459.981 *
SECONDARY_NE_QUAD_XY 772758.160 3911630.378 *
SECONDARY_SE_QUAD_XY 772968.065 3904696.042 *
SECONDARY_SW_QUAD_XY 767279.537 3904525.775 *
RMSE_XY 1.136 *
IMAGE_SOURCE "BLACK AND WHITE FILM" *
SOURCE_IMAGE_ID "NAPP 6926 18" *
SOURCE_IMAGE_DATE 1994 09 04 *
SOURCE_IMAGE_ID "NAPP 6926 13" *
SOURCE_IMAGE_DATE 1994 09 04 *
SOURCE_IMAGE_ID "NAPP 6926 16" *
SOURCE_IMAGE_DATE 1994 09 04 *
SOURCE_DEM_DATE 1964 01 01 *
AGENCY "WESTERN MAPPING CENTER (WMC)" *
PRODUCER "ANALYTICAL SURVEYS INC." *
PRODUCTION_SYSTEM "ORBIT OR_RECTIFY V.5.2" *
STANDARD_VERSION 1996 12 *
METADATA_DATE 1998 11 24 *
DATA_FILE_SIZE 51322830 *
BYTE_COUNT 6630 * * * * * * * * * * * * * * * * * * * * * * * * * * * * * * * * * * * *
END_USGS_HEADER *
