BEGIN_USGS_DOQ_HEADER *
QUADRANGLE_NAME "SANTA MARGARITA LAKE" 3.45 or 7.5-min. name*
QUADRANT SE quadrant indicator if cell size = 3.75-minutes*
WEST_LONGITUDE -120 26 15.000 signed deg min sec SDDD MM SS.SSS*
EAST_LONGITUDE -120 22 30.000 signed deg min sec SDDD MM SS.SSS*
NORTH_LATITUDE 35 18 45.000 signed deg min sec SDDD MM SS.SSS*
SOUTH_LATITUDE 35 15 0.000 signed deg min sec SDDD MM SS.SSS*
PRODUCTION_DATE 1996 3 21 yyyy mm dd*
RASTER_ORDER LEFT_RIGHT/TOP_BOTTOM video display order*
BAND_ORGANIZATION "SINGLE FILE" single file or BSQ, or BIL or BIP*
BAND_CONTENT BLACK&WHITE black&white or red green blue*
BITS_PER_PIXEL 8 radiometric resolution*
SAMPLES_AND_LINES 6561 7691 number of columns and rows*
HORIZONTAL_DATUM NAD83 primary horizontal datum*
HORIZONTAL_COORDINATE_SYSTEM UTM *
COORDINATE_ZONE 10 coordinate system zone number*
HORIZONTAL_UNITS METERS coordinate system units*
HORIZONTAL_RESOLUTION 1.00 pixel horiz. ground sample distance*
SECONDARY_HORIZONTAL_DATUM NAD27 secondary horizontal datum*
XY_ORIGIN 732575.000 3911165.000 coord. of upper left pixel pri. datum*
SECONDARY_XY_ORIGIN 732670.800 3910971.830 coord upper left pixel sec datum*
NATION US nation code*
STATE CA state fip code*
NW_QUAD_CORNER_XY 732965.960 3910711.500 XY coords. of pri. NW quad corner*
NE_QUAD_CORNER_XY 738649.360 3910860.330 XY coords. of pri. NE quad corner*
SE_QUAD_CORNER_XY 738832.980 3903926.550 XY coords. of pri. SE quad corner*
SW_QUAD_CORNER_XY 733145.190 3903777.840 XY coords. of pri. SW quad corner*
SECONDARY_NW_QUAD_XY 732971.390 3910513.080 XY coords. - sec. NW quad cor.*
SECONDARY_NE_QUAD_XY 738654.930 3910661.900 XY coords. - sec. NE quad cor.*
SECONDARY_SE_QUAD_XY 738838.540 3903728.310 XY coords. - sec. SE quad cor.*
SECONDARY_SW_QUAD_XY 733150.620 3903579.600 XY coords. - sec. SW quad cor.*
RMSE_XY 4.60 doq horiz. accuracy*
IMAGE_SOURCE "BLACK AND WHITE FILM" b&w, cir, natural color, other*
SOURCE_IMAGE_ID "NAPP 6916 62" source image id*
SOURCE_IMAGE_DATE 1994 5 2 source image date as yyyy mm dd*
SOURCE_DEM_DATE 1996 3 21 source dem date yyyy mm dd*
AGENCY "WESTERN MAPPING CENTER (WMC)" oversight agency*
PRODUCER "USDA FS GEOMETRONICS SERVICE CENTER" *
PRODUCTION_SYSTEM "DV2.6.1 6/95OV2.4 5/95" production system*
STANDARD_VERSION 1996 12 version of DOQ standard*
METADATA_DATE 1999 6 2 date created or changed, yyyy mm dd*
DATA_FILE_SIZE 50467212 data set size in bytes*
BYTE_COUNT 6561 header byte count* * * * * * * * * * * * * * * * * * * * * * * * * * * * * * * * * * * * * * *
END_USGS_HEADER *
