BEGIN_USGS_DOQ_HEADER *
QUADRANGLE_NAME "LOPEZ MOUNTAIN" 3.45 or 7.5-min. name*
QUADRANT NE quadrant indicator if cell size = 3.75-minutes*
WEST_LONGITUDE -120 33 45.000 signed deg min sec SDDD MM SS.SSS*
EAST_LONGITUDE -120 30 0.000 signed deg min sec SDDD MM SS.SSS*
NORTH_LATITUDE 35 22 30.000 signed deg min sec SDDD MM SS.SSS*
SOUTH_LATITUDE 35 18 45.000 signed deg min sec SDDD MM SS.SSS*
PRODUCTION_DATE 1996 3 20 yyyy mm dd*
RASTER_ORDER LEFT_RIGHT/TOP_BOTTOM video display order*
BAND_ORGANIZATION "SINGLE FILE" single file or BSQ, or BIL or BIP*
BAND_CONTENT BLACK&WHITE black&white or red green blue*
BITS_PER_PIXEL 8 radiometric resolution*
SAMPLES_AND_LINES 6548 7683 number of columns and rows*
HORIZONTAL_DATUM NAD83 primary horizontal datum*
HORIZONTAL_COORDINATE_SYSTEM UTM *
COORDINATE_ZONE 10 coordinate system zone number*
HORIZONTAL_UNITS METERS coordinate system units*
HORIZONTAL_RESOLUTION 1.00 pixel horiz. ground sample distance*
SECONDARY_HORIZONTAL_DATUM NAD27 secondary horizontal datum*
XY_ORIGIN 721037.000 3917801.000 coord. of upper left pixel pri. datum*
SECONDARY_XY_ORIGIN 721132.923 3917607.561 coord upper left pixel sec datum*
NATION US nation code*
STATE CA state fip code*
NW_QUAD_CORNER_XY 721428.593 3917358.164 XY coords. of pri. NW quad corner*
NE_QUAD_CORNER_XY 727107.431 3917499.909 XY coords. of pri. NE quad corner*
SE_QUAD_CORNER_XY 727282.555 3910566.302 XY coords. of pri. SE quad corner*
SW_QUAD_CORNER_XY 721599.330 3910424.666 XY coords. of pri. SW quad corner*
SECONDARY_NW_QUAD_XY 721433.767 3917159.548 XY coords. - sec. NW quad cor.*
SECONDARY_NE_QUAD_XY 727112.738 3917301.297 XY coords. - sec. NE quad cor.*
SECONDARY_SE_QUAD_XY 727287.857 3910367.874 XY coords. - sec. SE quad cor.*
SECONDARY_SW_QUAD_XY 721604.499 3910226.234 XY coords. - sec. SW quad cor.*
RMSE_XY 4.30 doq horiz. accuracy*
IMAGE_SOURCE "BLACK AND WHITE FILM" b&w, cir, natural color, other*
SOURCE_IMAGE_ID "NAPP 6926 62" source image id*
SOURCE_IMAGE_DATE 1994 9 4 source image date as yyyy mm dd*
SOURCE_DEM_DATE 1996 3 20 source dem date yyyy mm dd*
AGENCY "WESTERN MAPPING CENTER (WMC)" oversight agency*
PRODUCER "USFS" producer/contractor*
PRODUCTION_SYSTEM "DV2.6.1 6/95OV2.4 5/95" production system*
STANDARD_VERSION 1996 12 version of DOQ standard*
METADATA_DATE 1997 6 12 date created or changed, yyyy mm dd*
DATA_FILE_SIZE 50314832 data set size in bytes*
BYTE_COUNT 6548 header byte count* * * * * * * * * * * * * * * * * * * * * * * * * * * * * * * * * * * * * * *
END_USGS_HEADER *
