BEGIN_USGS_DOQ_HEADER *
QUADRANGLE_NAME "SAN LUIS OBISPO" 3.45 or 7.5-min. name*
QUADRANT NW quadrant indicator if cell size = 3.75-minutes*
WEST_LONGITUDE -120 45 0.000 signed deg min sec SDDD MM SS.SSS*
EAST_LONGITUDE -120 41 15.000 signed deg min sec SDDD MM SS.SSS*
NORTH_LATITUDE 35 22 30.000 signed deg min sec SDDD MM SS.SSS*
SOUTH_LATITUDE 35 18 45.000 signed deg min sec SDDD MM SS.SSS*
PRODUCTION_DATE 1996 3 20 yyyy mm dd*
RASTER_ORDER LEFT_RIGHT/TOP_BOTTOM video display order*
BAND_ORGANIZATION "SINGLE FILE" single file or BSQ, or BIL or BIP*
BAND_CONTENT BLACK&WHITE black&white or red green blue*
BITS_PER_PIXEL 8 radiometric resolution*
SAMPLES_AND_LINES 6532 7672 number of columns and rows*
HORIZONTAL_DATUM NAD83 primary horizontal datum*
HORIZONTAL_COORDINATE_SYSTEM UTM *
COORDINATE_ZONE 10 coordinate system zone number*
HORIZONTAL_UNITS METERS coordinate system units*
HORIZONTAL_RESOLUTION 1.00 pixel horiz. ground sample distance*
SECONDARY_HORIZONTAL_DATUM NAD27 secondary horizontal datum*
XY_ORIGIN 704000.000 3917386.000 coord. of upper left pixel pri. datum*
SECONDARY_XY_ORIGIN 704096.270 3917192.342 coord upper left pixel sec datum*
NATION US nation code*
STATE CA state fip code*
NW_QUAD_CORNER_XY 704392.593 3916954.496 XY coords. of pri. NW quad corner*
NE_QUAD_CORNER_XY 710071.176 3917085.458 XY coords. of pri. NE quad corner*
SE_QUAD_CORNER_XY 710233.142 3910152.169 XY coords. of pri. SE quad corner*
SW_QUAD_CORNER_XY 704550.175 3910021.307 XY coords. of pri. SW quad corner*
SECONDARY_NW_QUAD_XY 704397.369 3916755.871 XY coords. - sec. NW quad cor.*
SECONDARY_NE_QUAD_XY 710076.084 3916886.836 XY coords. - sec. NE quad cor.*
SECONDARY_SE_QUAD_XY 710238.046 3909953.731 XY coords. - sec. SE quad cor.*
SECONDARY_SW_QUAD_XY 704554.947 3909822.866 XY coords. - sec. SW quad cor.*
RMSE_XY 2.50 doq horiz. accuracy*
IMAGE_SOURCE "BLACK AND WHITE FILM" b&w, cir, natural color, other*
SOURCE_IMAGE_ID "NAPP 6928 30" source image id*
SOURCE_IMAGE_DATE 1994 9 15 source image date as yyyy mm dd*
SOURCE_DEM_DATE 1996 3 20 source dem date yyyy mm dd*
AGENCY "WESTERN MAPPING CENTER (WMC)" oversight agency*
PRODUCER "USFS" producer/contractor*
PRODUCTION_SYSTEM "DV2.6.1 6/95OV2.4 5/95" production system*
STANDARD_VERSION 1996 12 version of DOQ standard*
METADATA_DATE 1997 6 12 date created or changed, yyyy mm dd*
DATA_FILE_SIZE 50120036 data set size in bytes*
BYTE_COUNT 6532 header byte count* * * * * * * * * * * * * * * * * * * * * * * * * * * * * * * * * * * * * * *
END_USGS_HEADER *
