BEGIN_USGS_DOQ_HEADER *
QUADRANGLE_NAME "MORRO BAY SOUTH" *
QUADRANT NW *
NORTH_LATITUDE 35 22 30.000 *
WEST_LONGITUDE -120 52 30.000 *
SOUTH_LATITUDE 35 18 45.000 *
EAST_LONGITUDE -120 48 45.000 *
PRODUCTION_DATE 1998 10 29 *
RASTER_ORDER LEFT_RIGHT/TOP_BOTTOM *
BAND_ORGANIZATION "SINGLE FILE" *
BAND_CONTENT BLACK&WHITE *
BITS_PER_PIXEL 8 *
SAMPLES_AND_LINES 6540 7680 *
HORIZONTAL_DATUM NAD83 *
HORIZONTAL_COORDINATE_SYSTEM UTM *
COORDINATE_ZONE 10 *
HORIZONTAL_UNITS METERS *
HORIZONTAL_RESOLUTION 1.000 *
SECONDARY_HORIZONTAL_DATUM NAD27 *
XY_ORIGIN 692640.000 3917130.000 *
SECONDARY_XY_ORIGIN 692736.532 3916936.203 *
NATION US *
STATE CA *
NW_QUAD_CORNER_XY 693035.667 3916703.353 *
NE_QUAD_CORNER_XY 698714.091 3916827.128 *
SE_QUAD_CORNER_XY 698867.289 3909894.037 *
SW_QUAD_CORNER_XY 693184.482 3909770.356 *
SECONDARY_NW_QUAD_XY 693040.177 3916504.722 *
SECONDARY_NE_QUAD_XY 698718.734 3916628.500 *
SECONDARY_SE_QUAD_XY 698871.928 3909695.592 *
SECONDARY_SW_QUAD_XY 693188.989 3909571.909 *
RMSE_XY 1.391 *
IMAGE_SOURCE "BLACK AND WHITE FILM" *
SOURCE_IMAGE_ID "NAPP 6923 190" *
SOURCE_IMAGE_DATE 1994 05 28 *
SOURCE_IMAGE_ID "NAPP 6923 189" *
SOURCE_IMAGE_DATE 1994 05 28 *
SOURCE_DEM_DATE 1965 01 01 *
AGENCY "WESTERN MAPPING CENTER (WMC)" *
PRODUCER "ANALYTICAL SURVEYS INC." *
PRODUCTION_SYSTEM "ORBIT OR_RECTIFY V.5.2" *
STANDARD_VERSION 1996 12 *
METADATA_DATE 1998 11 09 *
DATA_FILE_SIZE 50233740 *
BYTE_COUNT 6540 * * * * * * * * * * * * * * * * * * * * * * * * * * * * * * * * * * * * *
END_USGS_HEADER *
