BEGIN_USGS_DOQ_HEADER *
QUADRANGLE_NAME "MORRO BAY SOUTH" *
QUADRANT SE *
NORTH_LATITUDE 35 18 45.000 *
WEST_LONGITUDE -120 48 45.000 *
SOUTH_LATITUDE 35 15 00.000 *
EAST_LONGITUDE -120 45 00.000 *
PRODUCTION_DATE 1998 10 29 *
RASTER_ORDER LEFT_RIGHT/TOP_BOTTOM *
BAND_ORGANIZATION "SINGLE FILE" *
BAND_CONTENT BLACK&WHITE *
BITS_PER_PIXEL 8 *
SAMPLES_AND_LINES 6570 7710 *
HORIZONTAL_DATUM NAD83 *
HORIZONTAL_COORDINATE_SYSTEM UTM *
COORDINATE_ZONE 10 *
HORIZONTAL_UNITS METERS *
HORIZONTAL_RESOLUTION 1.000 *
SECONDARY_HORIZONTAL_DATUM NAD27 *
XY_ORIGIN 698460.000 3910350.000 *
SECONDARY_XY_ORIGIN 698556.489 3910156.384 *
NATION US *
STATE CA *
NW_QUAD_CORNER_XY 698867.289 3909894.037 *
NE_QUAD_CORNER_XY 704550.175 3910021.307 *
SE_QUAD_CORNER_XY 704707.513 3903088.179 *
SW_QUAD_CORNER_XY 699020.250 3902961.007 *
SECONDARY_NW_QUAD_XY 698871.928 3909695.592 *
SECONDARY_NE_QUAD_XY 704554.947 3909822.866 *
SECONDARY_SE_QUAD_XY 704712.281 3902889.923 *
SECONDARY_SW_QUAD_XY 699024.885 3902762.747 *
RMSE_XY 2.263 *
IMAGE_SOURCE "BLACK AND WHITE FILM" *
SOURCE_IMAGE_ID "NAPP 6920 231" *
SOURCE_IMAGE_DATE 1994 05 13 *
SOURCE_IMAGE_ID "NAPP 6920 230" *
SOURCE_IMAGE_DATE 1994 05 13 *
SOURCE_DEM_DATE 1965 01 01 *
AGENCY "WESTERN MAPPING CENTER (WMC)" *
PRODUCER "ANALYTICAL SURVEYS INC." *
PRODUCTION_SYSTEM "ORBIT OR_RECTIFY V.5.2" *
STANDARD_VERSION 1996 12 *
METADATA_DATE 1999 02 03 *
DATA_FILE_SIZE 50661270 *
BYTE_COUNT 6570 * * * * * * * * * * * * * * * * * * * * * * * * * * * * * * * * * * * * * *
END_USGS_HEADER *
