BEGIN_USGS_DOQ_HEADER *
QUADRANGLE_NAME "MORRO BAY SOUTH OE W" *
QUADRANT SE *
NORTH_LATITUDE 35 18 45.000 *
WEST_LONGITUDE -120 56 15.000 *
SOUTH_LATITUDE 35 15 00.000 *
EAST_LONGITUDE -120 52 30.000 *
PRODUCTION_DATE 1998 10 27 *
RASTER_ORDER LEFT_RIGHT/TOP_BOTTOM *
BAND_ORGANIZATION "SINGLE FILE" *
BAND_CONTENT BLACK&WHITE *
BITS_PER_PIXEL 8 *
SAMPLES_AND_LINES 6570 7680 *
HORIZONTAL_DATUM NAD83 *
HORIZONTAL_COORDINATE_SYSTEM UTM *
COORDINATE_ZONE 10 *
HORIZONTAL_UNITS METERS *
HORIZONTAL_RESOLUTION 1.000 *
SECONDARY_HORIZONTAL_DATUM NAD27 *
XY_ORIGIN 687090.000 3910080.000 *
SECONDARY_XY_ORIGIN 687186.721 3909886.229 *
NATION US *
STATE CA *
NW_QUAD_CORNER_XY 687501.753 3909650.266 *
NE_QUAD_CORNER_XY 693184.482 3909770.356 *
SE_QUAD_CORNER_XY 693333.067 3902837.422 *
SW_QUAD_CORNER_XY 687645.961 3902717.424 *
SECONDARY_NW_QUAD_XY 687506.126 3909451.816 *
SECONDARY_NE_QUAD_XY 693188.989 3909571.909 *
SECONDARY_SE_QUAD_XY 693337.570 3902639.159 *
SECONDARY_SW_QUAD_XY 687650.331 3902519.158 *
RMSE_XY 3.048 *
IMAGE_SOURCE "BLACK AND WHITE FILM" *
SOURCE_IMAGE_ID "NAPP 6923 179" *
SOURCE_IMAGE_DATE 1994 05 28 *
SOURCE_DEM_DATE 1994 01 01 *
AGENCY "WESTERN MAPPING CENTER (WMC)" *
PRODUCER "ANALYTICAL SURVEYS INC." *
PRODUCTION_SYSTEM "ORBIT OR_RECTIFY V.5.2" *
STANDARD_VERSION 1996 12 *
METADATA_DATE 1998 11 02 *
DATA_FILE_SIZE 50464170 *
BYTE_COUNT 6570 * * * * * * * * * * * * * * * * * * * * * * * * * * * * * * * * * * * * * * * *
END_USGS_HEADER *
