BEGIN_USGS_DOQ_HEADER *
QUADRANGLE_NAME "LA PANZA NE" *
QUADRANT NE *
NORTH_LATITUDE 35 30 00.000 *
WEST_LONGITUDE -120 03 45.000 *
SOUTH_LATITUDE 35 26 15.000 *
EAST_LONGITUDE -120 00 00.000 *
PRODUCTION_DATE 1998 11 20 *
RASTER_ORDER LEFT_RIGHT/TOP_BOTTOM *
BAND_ORGANIZATION "SINGLE FILE" *
BAND_CONTENT BLACK&WHITE *
BITS_PER_PIXEL 8 *
SAMPLES_AND_LINES 6600 7740 *
HORIZONTAL_DATUM NAD83 *
HORIZONTAL_COORDINATE_SYSTEM UTM *
COORDINATE_ZONE 10 *
HORIZONTAL_UNITS METERS *
HORIZONTAL_RESOLUTION 1.000 *
SECONDARY_HORIZONTAL_DATUM NAD27 *
XY_ORIGIN 766050.000 3932940.000 *
SECONDARY_XY_ORIGIN 766144.861 3932747.302 *
NATION US *
STATE CA *
NW_QUAD_CORNER_XY 766449.296 3932461.872 *
NE_QUAD_CORNER_XY 772120.112 3932632.654 *
SE_QUAD_CORNER_XY 772330.998 3925697.976 *
SW_QUAD_CORNER_XY 766655.777 3925527.323 *
SECONDARY_NW_QUAD_XY 766455.544 3932262.920 *
SECONDARY_NE_QUAD_XY 772126.493 3932433.707 *
SECONDARY_SE_QUAD_XY 772337.373 3925499.211 *
SECONDARY_SW_QUAD_XY 766662.019 3925328.553 *
RMSE_XY 2.543 *
IMAGE_SOURCE "BLACK AND WHITE FILM" *
SOURCE_IMAGE_ID "NAPP 6915 203" *
SOURCE_IMAGE_DATE 1994 04 21 *
SOURCE_IMAGE_ID "NAPP 6915 205" *
SOURCE_IMAGE_DATE 1994 04 21 *
SOURCE_DEM_DATE 1966 01 01 *
AGENCY "WESTERN MAPPING CENTER (WMC)" *
PRODUCER "ANALYTICAL SURVEYS INC." *
PRODUCTION_SYSTEM "ORBIT OR_RECTIFY V.5.2" *
STANDARD_VERSION 1996 12 *
METADATA_DATE 1998 11 24 *
DATA_FILE_SIZE 51090600 *
BYTE_COUNT 6600 * * * * * * * * * * * * * * * * * * * * * * * * * * * * * * * * * * * * * *
END_USGS_HEADER *
