BEGIN_USGS_DOQ_HEADER *
QUADRANGLE_NAME "LA PANZA NE" *
QUADRANT NW *
NORTH_LATITUDE 35 30 00.000 *
WEST_LONGITUDE -120 07 30.000 *
SOUTH_LATITUDE 35 26 15.000 *
EAST_LONGITUDE -120 03 45.000 *
PRODUCTION_DATE 1998 11 20 *
RASTER_ORDER LEFT_RIGHT/TOP_BOTTOM *
BAND_ORGANIZATION "SINGLE FILE" *
BAND_CONTENT BLACK&WHITE *
BITS_PER_PIXEL 8 *
SAMPLES_AND_LINES 6600 7740 *
HORIZONTAL_DATUM NAD83 *
HORIZONTAL_COORDINATE_SYSTEM UTM *
COORDINATE_ZONE 10 *
HORIZONTAL_UNITS METERS *
HORIZONTAL_RESOLUTION 1.000 *
SECONDARY_HORIZONTAL_DATUM NAD27 *
XY_ORIGIN 760380.000 3932790.000 *
SECONDARY_XY_ORIGIN 760474.964 3932597.119 *
NATION US *
STATE CA *
NW_QUAD_CORNER_XY 760778.585 3932294.694 *
NE_QUAD_CORNER_XY 766449.296 3932461.872 *
SE_QUAD_CORNER_XY 766655.777 3925527.323 *
SW_QUAD_CORNER_XY 760980.661 3925360.271 *
SECONDARY_NW_QUAD_XY 760784.699 3932095.739 *
SECONDARY_NE_QUAD_XY 766455.544 3932262.920 *
SECONDARY_SE_QUAD_XY 766662.019 3925328.553 *
SECONDARY_SW_QUAD_XY 760986.770 3925161.498 *
RMSE_XY 1.873 *
IMAGE_SOURCE "BLACK AND WHITE FILM" *
SOURCE_IMAGE_ID "NAPP 6919 80" *
SOURCE_IMAGE_DATE 1994 05 11 *
SOURCE_IMAGE_ID "NAPP 6915 196" *
SOURCE_IMAGE_DATE 1994 04 21 *
SOURCE_DEM_DATE 1966 01 01 *
AGENCY "WESTERN MAPPING CENTER (WMC)" *
PRODUCER "ANALYTICAL SURVEYS INC." *
PRODUCTION_SYSTEM "ORBIT OR_RECTIFY V.5.2" *
STANDARD_VERSION 1996 12 *
METADATA_DATE 1998 11 24 *
DATA_FILE_SIZE 51090600 *
BYTE_COUNT 6600 * * * * * * * * * * * * * * * * * * * * * * * * * * * * * * * * * * * * * *
END_USGS_HEADER *
