BEGIN_USGS_DOQ_HEADER *
QUADRANGLE_NAME "LA PANZA NE" *
QUADRANT SE *
NORTH_LATITUDE 35 26 15.000 *
WEST_LONGITUDE -120 03 45.000 *
SOUTH_LATITUDE 35 22 30.000 *
EAST_LONGITUDE -120 00 00.000 *
PRODUCTION_DATE 1998 11 20 *
RASTER_ORDER LEFT_RIGHT/TOP_BOTTOM *
BAND_ORGANIZATION "SINGLE FILE" *
BAND_CONTENT BLACK&WHITE *
BITS_PER_PIXEL 8 *
SAMPLES_AND_LINES 6600 7740 *
HORIZONTAL_DATUM NAD83 *
HORIZONTAL_COORDINATE_SYSTEM UTM *
COORDINATE_ZONE 10 *
HORIZONTAL_UNITS METERS *
HORIZONTAL_RESOLUTION 1.000 *
SECONDARY_HORIZONTAL_DATUM NAD27 *
XY_ORIGIN 766260.000 3926010.000 *
SECONDARY_XY_ORIGIN 766354.790 3925817.404 *
NATION US *
STATE CA *
NW_QUAD_CORNER_XY 766655.777 3925527.323 *
NE_QUAD_CORNER_XY 772330.998 3925697.976 *
SE_QUAD_CORNER_XY 772541.559 3918763.351 *
SW_QUAD_CORNER_XY 766861.940 3918592.827 *
SECONDARY_NW_QUAD_XY 766662.019 3925328.553 *
SECONDARY_NE_QUAD_XY 772337.373 3925499.211 *
SECONDARY_SE_QUAD_XY 772547.929 3918564.768 *
SECONDARY_SW_QUAD_XY 766868.177 3918394.240 *
RMSE_XY 1.613 *
IMAGE_SOURCE "BLACK AND WHITE FILM" *
SOURCE_IMAGE_ID "NAPP 6915 201" *
SOURCE_IMAGE_DATE 1994 04 21 *
SOURCE_DEM_DATE 1966 01 01 *
AGENCY "WESTERN MAPPING CENTER (WMC)" *
PRODUCER "ANALYTICAL SURVEYS INC." *
PRODUCTION_SYSTEM "ORBIT OR_RECTIFY V.5.2" *
STANDARD_VERSION 1996 12 *
METADATA_DATE 1998 11 24 *
DATA_FILE_SIZE 51090600 *
BYTE_COUNT 6600 * * * * * * * * * * * * * * * * * * * * * * * * * * * * * * * * * * * * * * * *
END_USGS_HEADER *
