BEGIN_USGS_DOQ_HEADER *
QUADRANGLE_NAME "LA PANZA NE" *
QUADRANT SW *
NORTH_LATITUDE 35 26 15.000 *
WEST_LONGITUDE -120 07 30.000 *
SOUTH_LATITUDE 35 22 30.000 *
EAST_LONGITUDE -120 03 45.000 *
PRODUCTION_DATE 1998 11 20 *
RASTER_ORDER LEFT_RIGHT/TOP_BOTTOM *
BAND_ORGANIZATION "SINGLE FILE" *
BAND_CONTENT BLACK&WHITE *
BITS_PER_PIXEL 8 *
SAMPLES_AND_LINES 6600 7740 *
HORIZONTAL_DATUM NAD83 *
HORIZONTAL_COORDINATE_SYSTEM UTM *
COORDINATE_ZONE 10 *
HORIZONTAL_UNITS METERS *
HORIZONTAL_RESOLUTION 1.000 *
SECONDARY_HORIZONTAL_DATUM NAD27 *
XY_ORIGIN 760590.000 3925830.000 *
SECONDARY_XY_ORIGIN 760684.946 3925637.229 *
NATION US *
STATE CA *
NW_QUAD_CORNER_XY 760980.661 3925360.271 *
NE_QUAD_CORNER_XY 766655.777 3925527.323 *
SE_QUAD_CORNER_XY 766861.940 3918592.827 *
SW_QUAD_CORNER_XY 761182.426 3918425.902 *
SECONDARY_NW_QUAD_XY 760986.770 3925161.498 *
SECONDARY_NE_QUAD_XY 766662.019 3925328.553 *
SECONDARY_SE_QUAD_XY 766868.177 3918394.240 *
SECONDARY_SW_QUAD_XY 761188.530 3918227.312 *
RMSE_XY 2.892 *
IMAGE_SOURCE "BLACK AND WHITE FILM" *
SOURCE_IMAGE_ID "NAPP 6919 82" *
SOURCE_IMAGE_DATE 1994 05 11 *
SOURCE_DEM_DATE 1966 01 01 *
AGENCY "WESTERN MAPPING CENTER (WMC)" *
PRODUCER "ANALYTICAL SURVEYS INC." *
PRODUCTION_SYSTEM "ORBIT OR_RECTIFY V.5.2" *
STANDARD_VERSION 1996 12 *
METADATA_DATE 1998 11 24 *
DATA_FILE_SIZE 51090600 *
BYTE_COUNT 6600 * * * * * * * * * * * * * * * * * * * * * * * * * * * * * * * * * * * * * * * *
END_USGS_HEADER *
