BEGIN_USGS_DOQ_HEADER *
QUADRANGLE_NAME "CAMATTA RANCH" 3.45 or 7.5-min. name*
QUADRANT SE quadrant indicator if cell size = 3.75-minutes*
WEST_LONGITUDE -120 18 45.000 signed deg min sec SDDD MM SS.SSS*
EAST_LONGITUDE -120 15 0.000 signed deg min sec SDDD MM SS.SSS*
NORTH_LATITUDE 35 26 15.000 signed deg min sec SDDD MM SS.SSS*
SOUTH_LATITUDE 35 22 30.000 signed deg min sec SDDD MM SS.SSS*
PRODUCTION_DATE 1996 3 22 yyyy mm dd*
RASTER_ORDER LEFT_RIGHT/TOP_BOTTOM video display order*
BAND_ORGANIZATION "SINGLE FILE" single file or BSQ, or BIL or BIP*
BAND_CONTENT BLACK&WHITE black&white or red green blue*
BITS_PER_PIXEL 8 radiometric resolution*
SAMPLES_AND_LINES 6561 7700 number of columns and rows*
HORIZONTAL_DATUM NAD83 primary horizontal datum*
HORIZONTAL_COORDINATE_SYSTEM UTM *
COORDINATE_ZONE 10 coordinate system zone number*
HORIZONTAL_UNITS METERS coordinate system units*
HORIZONTAL_RESOLUTION 1.00 pixel horiz. ground sample distance*
SECONDARY_HORIZONTAL_DATUM NAD27 secondary horizontal datum*
XY_ORIGIN 743565.000 3925342.000 coord. of upper left pixel pri. datum*
SECONDARY_XY_ORIGIN 743660.350 3925148.800 coord upper left pixel sec datum*
NATION US nation code*
STATE CA state fip code*
NW_QUAD_CORNER_XY 743956.000 3924880.700 XY coords. of pri. NW quad corner*
NE_QUAD_CORNER_XY 749630.820 3925036.940 XY coords. of pri. NE quad corner*
SE_QUAD_CORNER_XY 749823.790 3918102.820 XY coords. of pri. SE quad corner*
SW_QUAD_CORNER_XY 744144.580 3917946.690 XY coords. of pri. SW quad corner*
SECONDARY_NW_QUAD_XY 743961.710 3924681.910 XY coords. - sec. NW quad cor.*
SECONDARY_NE_QUAD_XY 749636.660 3924838.160 XY coords. - sec. NE quad cor.*
SECONDARY_SE_QUAD_XY 749829.630 3917904.220 XY coords. - sec. SE quad cor.*
SECONDARY_SW_QUAD_XY 744150.290 3917748.090 XY coords. - sec. SW quad cor.*
RMSE_XY 4.90 doq horiz. accuracy*
IMAGE_SOURCE "BLACK AND WHITE FILM" b&w, cir, natural color, other*
SOURCE_IMAGE_ID "NAPP 6915 130" source image id*
SOURCE_IMAGE_DATE 1994 5 11 source image date as yyyy mm dd*
SOURCE_DEM_DATE 1996 3 22 source dem date yyyy mm dd*
AGENCY "WESTERN MAPPING CENTER (WMC)" oversight agency*
PRODUCER "USDA FS GEOMETRONICS SERVICE CENTER" *
PRODUCTION_SYSTEM "DV2.6.1 6/95OV2.4 5/95" production system*
STANDARD_VERSION 1996 12 version of DOQ standard*
METADATA_DATE 1999 6 2 date created or changed, yyyy mm dd*
DATA_FILE_SIZE 50526261 data set size in bytes*
BYTE_COUNT 6561 header byte count* * * * * * * * * * * * * * * * * * * * * * * * * * * * * * * * * * * * * * *
END_USGS_HEADER *
