BEGIN_USGS_DOQ_HEADER *
QUADRANGLE_NAME "WILSON CORNER" 3.45 or 7.5-min. name*
QUADRANT NE quadrant indicator if cell size = 3.75-minutes*
WEST_LONGITUDE -120 26 15.000 signed deg min sec SDDD MM SS.SSS*
EAST_LONGITUDE -120 22 30.000 signed deg min sec SDDD MM SS.SSS*
NORTH_LATITUDE 35 30 0.000 signed deg min sec SDDD MM SS.SSS*
SOUTH_LATITUDE 35 26 15.000 signed deg min sec SDDD MM SS.SSS*
PRODUCTION_DATE 1996 3 21 yyyy mm dd*
RASTER_ORDER LEFT_RIGHT/TOP_BOTTOM video display order*
BAND_ORGANIZATION "SINGLE FILE" single file or BSQ, or BIL or BIP*
BAND_CONTENT BLACK&WHITE black&white or red green blue*
BITS_PER_PIXEL 8 radiometric resolution*
SAMPLES_AND_LINES 6548 7691 number of columns and rows*
HORIZONTAL_DATUM NAD83 primary horizontal datum*
HORIZONTAL_COORDINATE_SYSTEM UTM *
COORDINATE_ZONE 10 coordinate system zone number*
HORIZONTAL_UNITS METERS coordinate system units*
HORIZONTAL_RESOLUTION 1.00 pixel horiz. ground sample distance*
SECONDARY_HORIZONTAL_DATUM NAD27 secondary horizontal datum*
XY_ORIGIN 732035.000 3931963.000 coord. of upper left pixel pri. datum*
SECONDARY_XY_ORIGIN 732130.460 3931769.528 coord upper left pixel sec datum*
NATION US nation code*
STATE CA state fip code*
NW_QUAD_CORNER_XY 732426.508 3931512.858 XY coords. of pri. NW quad corner*
NE_QUAD_CORNER_XY 738096.733 3931662.020 XY coords. of pri. NE quad corner*
SE_QUAD_CORNER_XY 738281.198 3924728.075 XY coords. of pri. SE quad corner*
SW_QUAD_CORNER_XY 732606.572 3924579.025 XY coords. of pri. SW quad corner*
SECONDARY_NW_QUAD_XY 732431.957 3931313.884 XY coords. - sec. NW quad cor.*
SECONDARY_NE_QUAD_XY 738102.315 3931463.050 XY coords. - sec. NE quad cor.*
SECONDARY_SE_QUAD_XY 738286.776 3924529.286 XY coords. - sec. SE quad cor.*
SECONDARY_SW_QUAD_XY 732612.017 3924380.233 XY coords. - sec. SW quad cor.*
RMSE_XY 3.40 doq horiz. accuracy*
IMAGE_SOURCE "BLACK AND WHITE FILM" b&w, cir, natural color, other*
SOURCE_IMAGE_ID "NAPP 6916 68" source image id*
SOURCE_IMAGE_DATE 1994 5 2 source image date as yyyy mm dd*
SOURCE_DEM_DATE 1996 3 21 source dem date yyyy mm dd*
AGENCY "WESTERN MAPPING CENTER (WMC)" oversight agency*
PRODUCER "USFS" producer/contractor*
PRODUCTION_SYSTEM "DV2.6.1 6/95OV2.4 5/95" production system*
STANDARD_VERSION 1996 12 version of DOQ standard*
METADATA_DATE 1997 6 13 date created or changed, yyyy mm dd*
DATA_FILE_SIZE 50367216 data set size in bytes*
BYTE_COUNT 6548 header byte count* * * * * * * * * * * * * * * * * * * * * * * * * * * * * * * * * * * * * * *
END_USGS_HEADER *
