BEGIN_USGS_DOQ_HEADER *
QUADRANGLE_NAME "SANTA MARGARITA" *
QUADRANT NW *
NORTH_LATITUDE 35 30 00.000 *
WEST_LONGITUDE -120 37 30.000 *
SOUTH_LATITUDE 35 26 15.000 *
EAST_LONGITUDE -120 33 45.000 *
PRODUCTION_DATE 1998 11 03 *
RASTER_ORDER LEFT_RIGHT/TOP_BOTTOM *
BAND_ORGANIZATION "SINGLE FILE" *
BAND_CONTENT BLACK&WHITE *
BITS_PER_PIXEL 8 *
SAMPLES_AND_LINES 6540 7710 *
HORIZONTAL_DATUM NAD83 *
HORIZONTAL_COORDINATE_SYSTEM UTM *
COORDINATE_ZONE 10 *
HORIZONTAL_UNITS METERS *
HORIZONTAL_RESOLUTION 1.000 *
SECONDARY_HORIZONTAL_DATUM NAD27 *
XY_ORIGIN 715020.000 3931530.000 *
SECONDARY_XY_ORIGIN 715115.806 3931336.275 *
NATION US *
STATE CA *
NW_QUAD_CORNER_XY 715416.367 3931086.977 *
NE_QUAD_CORNER_XY 721086.327 3931225.337 *
SE_QUAD_CORNER_XY 721257.592 3924291.721 *
SW_QUAD_CORNER_XY 715583.233 3924153.465 *
SECONDARY_NW_QUAD_XY 715421.417 3930887.993 *
SECONDARY_NE_QUAD_XY 721091.510 3931026.356 *
SECONDARY_SE_QUAD_XY 721262.770 3924092.922 *
SECONDARY_SW_QUAD_XY 715588.279 3923954.664 *
RMSE_XY 1.693 *
IMAGE_SOURCE "BLACK AND WHITE FILM" *
SOURCE_IMAGE_ID "NAPP 6926 50" *
SOURCE_IMAGE_DATE 1994 09 04 *
SOURCE_IMAGE_ID "NAPP 6926 52" *
SOURCE_IMAGE_DATE 1994 09 04 *
SOURCE_DEM_DATE 1987 01 01 *
AGENCY "WESTERN MAPPING CENTER (WMC)" *
PRODUCER "ANALYTICAL SURVEYS INC." *
PRODUCTION_SYSTEM "ORBIT OR_RECTIFY V.5.2" *
STANDARD_VERSION 1996 12 *
METADATA_DATE 1998 11 04 *
DATA_FILE_SIZE 50429940 *
BYTE_COUNT 6540 * * * * * * * * * * * * * * * * * * * * * * * * * * * * * * * * * * * * *
END_USGS_HEADER *
