BEGIN_USGS_DOQ_HEADER *
QUADRANGLE_NAME "SANTA MARGARITA" *
QUADRANT SE *
NORTH_LATITUDE 35 26 15.000 *
WEST_LONGITUDE -120 33 45.000 *
SOUTH_LATITUDE 35 22 30.000 *
EAST_LONGITUDE -120 30 00.000 *
PRODUCTION_DATE 1998 11 03 *
RASTER_ORDER LEFT_RIGHT/TOP_BOTTOM *
BAND_ORGANIZATION "SINGLE FILE" *
BAND_CONTENT BLACK&WHITE *
BITS_PER_PIXEL 8 *
SAMPLES_AND_LINES 6570 7710 *
HORIZONTAL_DATUM NAD83 *
HORIZONTAL_COORDINATE_SYSTEM UTM *
COORDINATE_ZONE 10 *
HORIZONTAL_UNITS METERS *
HORIZONTAL_RESOLUTION 1.000 *
SECONDARY_HORIZONTAL_DATUM NAD27 *
XY_ORIGIN 720840.000 3924750.000 *
SECONDARY_XY_ORIGIN 720935.804 3924556.463 *
NATION US *
STATE CA *
NW_QUAD_CORNER_XY 721257.592 3924291.721 *
NE_QUAD_CORNER_XY 726932.037 3924433.574 *
SE_QUAD_CORNER_XY 727107.431 3917499.909 *
SW_QUAD_CORNER_XY 721428.593 3917358.164 *
SECONDARY_NW_QUAD_XY 721262.770 3924092.922 *
SECONDARY_NE_QUAD_XY 726937.349 3924234.778 *
SECONDARY_SE_QUAD_XY 727112.738 3917301.297 *
SECONDARY_SW_QUAD_XY 721433.767 3917159.548 *
RMSE_XY 2.166 *
IMAGE_SOURCE "BLACK AND WHITE FILM" *
SOURCE_IMAGE_ID "NAPP 6926 64" *
SOURCE_IMAGE_DATE 1994 09 04 *
SOURCE_DEM_DATE 1987 01 01 *
AGENCY "WESTERN MAPPING CENTER (WMC)" *
PRODUCER "ANALYTICAL SURVEYS INC." *
PRODUCTION_SYSTEM "ORBIT OR_RECTIFY V.5.2" *
STANDARD_VERSION 1996 12 *
METADATA_DATE 1998 11 04 *
DATA_FILE_SIZE 50661270 *
BYTE_COUNT 6570 * * * * * * * * * * * * * * * * * * * * * * * * * * * * * * * * * * * * * * * *
END_USGS_HEADER *
