BEGIN_USGS_DOQ_HEADER *
QUADRANGLE_NAME "ATASCADERO" 3.45 or 7.5-min. name*
QUADRANT NW quadrant indicator if cell size = 3.75-minutes*
WEST_LONGITUDE -120 45 0.000 signed deg min sec SDDD MM SS.SSS*
EAST_LONGITUDE -120 41 15.000 signed deg min sec SDDD MM SS.SSS*
NORTH_LATITUDE 35 30 0.000 signed deg min sec SDDD MM SS.SSS*
SOUTH_LATITUDE 35 26 15.000 signed deg min sec SDDD MM SS.SSS*
PRODUCTION_DATE 1996 3 19 yyyy mm dd*
RASTER_ORDER LEFT_RIGHT/TOP_BOTTOM video display order*
BAND_ORGANIZATION "SINGLE FILE" single file or BSQ, or BIL or BIP*
BAND_CONTENT BLACK&WHITE black&white or red green blue*
BITS_PER_PIXEL 8 radiometric resolution*
SAMPLES_AND_LINES 6524 7672 number of columns and rows*
HORIZONTAL_DATUM NAD83 primary horizontal datum*
HORIZONTAL_COORDINATE_SYSTEM UTM *
COORDINATE_ZONE 10 coordinate system zone number*
HORIZONTAL_UNITS METERS coordinate system units*
HORIZONTAL_RESOLUTION 1.00 pixel horiz. ground sample distance*
SECONDARY_HORIZONTAL_DATUM NAD27 secondary horizontal datum*
XY_ORIGIN 703684.000 3931253.000 coord. of upper left pixel pri. datum*
SECONDARY_XY_ORIGIN 703780.056 3931059.102 coord upper left pixel sec datum*
NATION US nation code*
STATE CA state fip code*
NW_QUAD_CORNER_XY 704076.698 3930821.056 XY coords. of pri. NW quad corner*
NE_QUAD_CORNER_XY 709746.492 3930952.217 XY coords. of pri. NE quad corner*
SE_QUAD_CORNER_XY 709908.959 3924018.807 XY coords. of pri. SE quad corner*
SW_QUAD_CORNER_XY 704234.767 3923887.746 XY coords. of pri. SW quad corner*
SECONDARY_NW_QUAD_XY 704081.482 3930622.066 XY coords. - sec. NW quad cor.*
SECONDARY_NE_QUAD_XY 709751.409 3930753.230 XY coords. - sec. NE quad cor.*
SECONDARY_SE_QUAD_XY 709913.871 3923820.002 XY coords. - sec. SE quad cor.*
SECONDARY_SW_QUAD_XY 704239.547 3923688.938 XY coords. - sec. SW quad cor.*
RMSE_XY 4.00 doq horiz. accuracy*
IMAGE_SOURCE "BLACK AND WHITE FILM" b&w, cir, natural color, other*
SOURCE_IMAGE_ID "NAPP 6928 26" source image id*
SOURCE_IMAGE_DATE 1994 9 15 source image date as yyyy mm dd*
SOURCE_DEM_DATE 1996 3 19 source dem date yyyy mm dd*
AGENCY "WESTERN MAPPING CENTER (WMC)" oversight agency*
PRODUCER "USFS" producer/contractor*
PRODUCTION_SYSTEM "DV2.6.1 6/95OV2.4 5/95" production system*
STANDARD_VERSION 1996 12 version of DOQ standard*
METADATA_DATE 1997 6 13 date created or changed, yyyy mm dd*
DATA_FILE_SIZE 50058652 data set size in bytes*
BYTE_COUNT 6524 header byte count* * * * * * * * * * * * * * * * * * * * * * * * * * * * * * * * * * * * * * *
END_USGS_HEADER *
