BEGIN_USGS_DOQ_HEADER *
QUADRANGLE_NAME "CAYUCOS" *
QUADRANT NW *
NORTH_LATITUDE 35 30 00.000 *
WEST_LONGITUDE -121 00 00.000 *
SOUTH_LATITUDE 35 26 15.000 *
EAST_LONGITUDE -120 56 15.000 *
PRODUCTION_DATE 1998 10 27 *
RASTER_ORDER LEFT_RIGHT/TOP_BOTTOM *
BAND_ORGANIZATION "SINGLE FILE" *
BAND_CONTENT BLACK&WHITE *
BITS_PER_PIXEL 8 *
SAMPLES_AND_LINES 6540 7680 *
HORIZONTAL_DATUM NAD83 *
HORIZONTAL_COORDINATE_SYSTEM UTM *
COORDINATE_ZONE 10 *
HORIZONTAL_UNITS METERS *
HORIZONTAL_RESOLUTION 1.000 *
SECONDARY_HORIZONTAL_DATUM NAD27 *
XY_ORIGIN 681000.000 3930750.000 *
SECONDARY_XY_ORIGIN 681096.724 3930555.896 *
NATION US *
STATE CA *
NW_QUAD_CORNER_XY 681398.297 3930332.399 *
NE_QUAD_CORNER_XY 687067.785 3930449.166 *
SE_QUAD_CORNER_XY 687212.664 3923516.137 *
SW_QUAD_CORNER_XY 681538.780 3923399.457 *
SECONDARY_NW_QUAD_XY 681402.549 3930133.397 *
SECONDARY_NE_QUAD_XY 687072.170 3930250.167 *
SECONDARY_SE_QUAD_XY 687217.046 3923317.320 *
SECONDARY_SW_QUAD_XY 681543.029 3923200.638 *
RMSE_XY 2.170 *
IMAGE_SOURCE "BLACK AND WHITE FILM" *
SOURCE_IMAGE_ID "NAPP 6920 225" *
SOURCE_IMAGE_DATE 1994 05 13 *
SOURCE_DEM_DATE 1987 01 01 *
AGENCY "WESTERN MAPPING CENTER (WMC)" *
PRODUCER "ANALYTICAL SURVEYS INC." *
PRODUCTION_SYSTEM "ORBIT OR_RECTIFY V.5.2" *
STANDARD_VERSION 1996 12 *
METADATA_DATE 1998 11 02 *
DATA_FILE_SIZE 50233740 *
BYTE_COUNT 6540 * * * * * * * * * * * * * * * * * * * * * * * * * * * * * * * * * * * * * * *
END_USGS_HEADER *
