BEGIN_USGS_DOQ_HEADER *
QUADRANGLE_NAME "CAYUCOS" *
QUADRANT SE *
NORTH_LATITUDE 35 26 15.000 *
WEST_LONGITUDE -120 56 15.000 *
SOUTH_LATITUDE 35 22 30.000 *
EAST_LONGITUDE -120 52 30.000 *
PRODUCTION_DATE 1998 10 29 *
RASTER_ORDER LEFT_RIGHT/TOP_BOTTOM *
BAND_ORGANIZATION "SINGLE FILE" *
BAND_CONTENT BLACK&WHITE *
BITS_PER_PIXEL 8 *
SAMPLES_AND_LINES 6540 7680 *
HORIZONTAL_DATUM NAD83 *
HORIZONTAL_COORDINATE_SYSTEM UTM *
COORDINATE_ZONE 10 *
HORIZONTAL_UNITS METERS *
HORIZONTAL_RESOLUTION 1.000 *
SECONDARY_HORIZONTAL_DATUM NAD27 *
XY_ORIGIN 686820.000 3923940.000 *
SECONDARY_XY_ORIGIN 686916.610 3923746.040 *
NATION US *
STATE CA *
NW_QUAD_CORNER_XY 687212.664 3923516.137 *
NE_QUAD_CORNER_XY 692886.622 3923636.411 *
SE_QUAD_CORNER_XY 693035.667 3916703.353 *
SW_QUAD_CORNER_XY 687357.320 3916583.170 *
SECONDARY_NW_QUAD_XY 687217.046 3923317.320 *
SECONDARY_NE_QUAD_XY 692891.136 3923437.597 *
SECONDARY_SE_QUAD_XY 693040.177 3916504.722 *
SECONDARY_SW_QUAD_XY 687361.698 3916384.536 *
RMSE_XY 1.283 *
IMAGE_SOURCE "BLACK AND WHITE FILM" *
SOURCE_IMAGE_ID "NAPP 6923 181" *
SOURCE_IMAGE_DATE 1994 05 28 *
SOURCE_DEM_DATE 1987 01 01 *
AGENCY "WESTERN MAPPING CENTER (WMC)" *
PRODUCER "ANALYTICAL SURVEYS INC." *
PRODUCTION_SYSTEM "ORBIT OR_RECTIFY V.5.2" *
STANDARD_VERSION 1996 12 *
METADATA_DATE 1998 11 02 *
DATA_FILE_SIZE 50233740 *
BYTE_COUNT 6540 * * * * * * * * * * * * * * * * * * * * * * * * * * * * * * * * * * * * * * *
END_USGS_HEADER *
