BEGIN_USGS_DOQ_HEADER *
QUADRANGLE_NAME "PACKWOOD CREEK" *
QUADRANT NE *
NORTH_LATITUDE 35 37 30.000 *
WEST_LONGITUDE -120 03 45.000 *
SOUTH_LATITUDE 35 33 45.000 *
EAST_LONGITUDE -120 00 00.000 *
PRODUCTION_DATE 1998 11 20 *
RASTER_ORDER LEFT_RIGHT/TOP_BOTTOM *
BAND_ORGANIZATION "SINGLE FILE" *
BAND_CONTENT BLACK&WHITE *
BITS_PER_PIXEL 8 *
SAMPLES_AND_LINES 6600 7740 *
HORIZONTAL_DATUM NAD83 *
HORIZONTAL_COORDINATE_SYSTEM UTM *
COORDINATE_ZONE 10 *
HORIZONTAL_UNITS METERS *
HORIZONTAL_RESOLUTION 1.000 *
SECONDARY_HORIZONTAL_DATUM NAD27 *
XY_ORIGIN 765630.000 3946830.000 *
SECONDARY_XY_ORIGIN 765724.496 3946637.198 *
NATION US *
STATE CA *
NW_QUAD_CORNER_XY 766035.383 3946331.129 *
NE_QUAD_CORNER_XY 771697.368 3946502.167 *
SE_QUAD_CORNER_XY 771908.902 3939567.384 *
SW_QUAD_CORNER_XY 766242.498 3939396.474 *
SECONDARY_NW_QUAD_XY 766041.641 3946131.816 *
SECONDARY_NE_QUAD_XY 771703.759 3946302.857 *
SECONDARY_SE_QUAD_XY 771915.288 3939368.256 *
SECONDARY_SW_QUAD_XY 766248.751 3939197.341 *
RMSE_XY 2.526 *
IMAGE_SOURCE "BLACK AND WHITE FILM" *
SOURCE_IMAGE_ID "NAPP 6915 207" *
SOURCE_IMAGE_DATE 1994 04 21 *
SOURCE_IMAGE_ID "NAPP 6915 194" *
SOURCE_IMAGE_DATE 1994 04 21 *
SOURCE_IMAGE_ID "NAPP 6915 205" *
SOURCE_IMAGE_DATE 1994 04 21 *
SOURCE_DEM_DATE 1993 01 01 *
AGENCY "WESTERN MAPPING CENTER (WMC)" *
PRODUCER "ANALYTICAL SURVEYS INC." *
PRODUCTION_SYSTEM "ORBIT OR_RECTIFY V.5.2" *
STANDARD_VERSION 1996 12 *
METADATA_DATE 1998 11 24 *
DATA_FILE_SIZE 51090600 *
BYTE_COUNT 6600 * * * * * * * * * * * * * * * * * * * * * * * * * * * * * * * * * * * *
END_USGS_HEADER *
