BEGIN_USGS_DOQ_HEADER *
QUADRANGLE_NAME "PACKWOOD CREEK" *
QUADRANT SW *
NORTH_LATITUDE 35 33 45.000 *
WEST_LONGITUDE -120 07 30.000 *
SOUTH_LATITUDE 35 30 00.000 *
EAST_LONGITUDE -120 03 45.000 *
PRODUCTION_DATE 1998 11 20 *
RASTER_ORDER LEFT_RIGHT/TOP_BOTTOM *
BAND_ORGANIZATION "SINGLE FILE" *
BAND_CONTENT BLACK&WHITE *
BITS_PER_PIXEL 8 *
SAMPLES_AND_LINES 6600 7740 *
HORIZONTAL_DATUM NAD83 *
HORIZONTAL_COORDINATE_SYSTEM UTM *
COORDINATE_ZONE 10 *
HORIZONTAL_UNITS METERS *
HORIZONTAL_RESOLUTION 1.000 *
SECONDARY_HORIZONTAL_DATUM NAD27 *
XY_ORIGIN 760170.000 3939720.000 *
SECONDARY_XY_ORIGIN 760264.759 3939527.072 *
NATION US *
STATE CA *
NW_QUAD_CORNER_XY 760576.198 3939229.171 *
NE_QUAD_CORNER_XY 766242.498 3939396.474 *
SE_QUAD_CORNER_XY 766449.296 3932461.872 *
SW_QUAD_CORNER_XY 760778.585 3932294.694 *
SECONDARY_NW_QUAD_XY 760582.317 3939030.034 *
SECONDARY_NE_QUAD_XY 766248.751 3939197.341 *
SECONDARY_SE_QUAD_XY 766455.544 3932262.920 *
SECONDARY_SW_QUAD_XY 760784.699 3932095.739 *
RMSE_XY 1.596 *
IMAGE_SOURCE "BLACK AND WHITE FILM" *
SOURCE_IMAGE_ID "NAPP 6915 196" *
SOURCE_IMAGE_DATE 1994 04 21 *
SOURCE_IMAGE_ID "NAPP 6915 194" *
SOURCE_IMAGE_DATE 1994 04 21 *
SOURCE_IMAGE_ID "NAPP 6915 205" *
SOURCE_IMAGE_DATE 1994 04 21 *
SOURCE_DEM_DATE 1993 01 01 *
AGENCY "WESTERN MAPPING CENTER (WMC)" *
PRODUCER "ANALYTICAL SURVEYS INC." *
PRODUCTION_SYSTEM "ORBIT OR_RECTIFY V.5.2" *
STANDARD_VERSION 1996 12 *
METADATA_DATE 1998 11 24 *
DATA_FILE_SIZE 51090600 *
BYTE_COUNT 6600 * * * * * * * * * * * * * * * * * * * * * * * * * * * * * * * * * * * *
END_USGS_HEADER *
