BEGIN_USGS_DOQ_HEADER *
QUADRANGLE_NAME "HOLLAND CANYON" *
QUADRANT SE *
NORTH_LATITUDE 35 33 45.000 *
WEST_LONGITUDE -120 11 15.000 *
SOUTH_LATITUDE 35 30 00.000 *
EAST_LONGITUDE -120 07 30.000 *
PRODUCTION_DATE 1998 11 19 *
RASTER_ORDER LEFT_RIGHT/TOP_BOTTOM *
BAND_ORGANIZATION "SINGLE FILE" *
BAND_CONTENT BLACK&WHITE *
BITS_PER_PIXEL 8 *
SAMPLES_AND_LINES 6600 7740 *
HORIZONTAL_DATUM NAD83 *
HORIZONTAL_COORDINATE_SYSTEM UTM *
COORDINATE_ZONE 10 *
HORIZONTAL_UNITS METERS *
HORIZONTAL_RESOLUTION 1.000 *
SECONDARY_HORIZONTAL_DATUM NAD27 *
XY_ORIGIN 754500.000 3939540.000 *
SECONDARY_XY_ORIGIN 754594.856 3939346.895 *
NATION US *
STATE CA *
NW_QUAD_CORNER_XY 754909.998 3939065.475 *
NE_QUAD_CORNER_XY 760576.198 3939229.171 *
SE_QUAD_CORNER_XY 760778.585 3932294.694 *
SW_QUAD_CORNER_XY 755107.975 3932131.121 *
SECONDARY_NW_QUAD_XY 754915.985 3938866.334 *
SECONDARY_NE_QUAD_XY 760582.317 3939030.034 *
SECONDARY_SE_QUAD_XY 760784.699 3932095.739 *
SECONDARY_SW_QUAD_XY 755113.956 3931932.162 *
RMSE_XY 2.085 *
IMAGE_SOURCE "BLACK AND WHITE FILM" *
SOURCE_IMAGE_ID "NAPP 6915 134" *
SOURCE_IMAGE_DATE 1994 04 21 *
SOURCE_DEM_DATE 1988 01 01 *
AGENCY "WESTERN MAPPING CENTER (WMC)" *
PRODUCER "ANALYTICAL SURVEYS INC." *
PRODUCTION_SYSTEM "ORBIT OR_RECTIFY V.5.2" *
STANDARD_VERSION 1996 12 *
METADATA_DATE 1998 11 23 *
DATA_FILE_SIZE 51090600 *
BYTE_COUNT 6600 * * * * * * * * * * * * * * * * * * * * * * * * * * * * * * * * * * * * * * * *
END_USGS_HEADER *
