BEGIN_USGS_DOQ_HEADER *
QUADRANGLE_NAME "HOLLAND CANYON" *
QUADRANT SW *
NORTH_LATITUDE 35 33 45.000 *
WEST_LONGITUDE -120 15 00.000 *
SOUTH_LATITUDE 35 30 00.000 *
EAST_LONGITUDE -120 11 15.000 *
PRODUCTION_DATE 1998 11 19 *
RASTER_ORDER LEFT_RIGHT/TOP_BOTTOM *
BAND_ORGANIZATION "SINGLE FILE" *
BAND_CONTENT BLACK&WHITE *
BITS_PER_PIXEL 8 *
SAMPLES_AND_LINES 6600 7740 *
HORIZONTAL_DATUM NAD83 *
HORIZONTAL_COORDINATE_SYSTEM UTM *
COORDINATE_ZONE 10 *
HORIZONTAL_UNITS METERS *
HORIZONTAL_RESOLUTION 1.000 *
SECONDARY_HORIZONTAL_DATUM NAD27 *
XY_ORIGIN 748830.000 3939390.000 *
SECONDARY_XY_ORIGIN 748924.952 3939196.718 *
NATION US *
STATE CA *
NW_QUAD_CORNER_XY 749243.897 3938905.385 *
NE_QUAD_CORNER_XY 754909.998 3939065.475 *
SE_QUAD_CORNER_XY 755107.975 3932131.121 *
SW_QUAD_CORNER_XY 749437.464 3931971.151 *
SECONDARY_NW_QUAD_XY 749249.751 3938706.241 *
SECONDARY_NE_QUAD_XY 754915.985 3938866.334 *
SECONDARY_SE_QUAD_XY 755113.956 3931932.162 *
SECONDARY_SW_QUAD_XY 749443.312 3931772.188 *
RMSE_XY 1.539 *
IMAGE_SOURCE "BLACK AND WHITE FILM" *
SOURCE_IMAGE_ID "NAPP 6915 121" *
SOURCE_IMAGE_DATE 1994 04 21 *
SOURCE_DEM_DATE 1988 01 01 *
AGENCY "WESTERN MAPPING CENTER (WMC)" *
PRODUCER "ANALYTICAL SURVEYS INC." *
PRODUCTION_SYSTEM "ORBIT OR_RECTIFY V.5.2" *
STANDARD_VERSION 1996 12 *
METADATA_DATE 1998 11 23 *
DATA_FILE_SIZE 51090600 *
BYTE_COUNT 6600 * * * * * * * * * * * * * * * * * * * * * * * * * * * * * * * * * * * * * * * *
END_USGS_HEADER *
