BEGIN_USGS_DOQ_HEADER *
QUADRANGLE_NAME "CAMATTA CANYON" *
QUADRANT NW *
NORTH_LATITUDE 35 37 30.000 *
WEST_LONGITUDE -120 22 30.000 *
SOUTH_LATITUDE 35 33 45.000 *
EAST_LONGITUDE -120 18 45.000 *
PRODUCTION_DATE 1998 11 02 *
RASTER_ORDER LEFT_RIGHT/TOP_BOTTOM *
BAND_ORGANIZATION "SINGLE FILE" *
BAND_CONTENT BLACK&WHITE *
BITS_PER_PIXEL 8 *
SAMPLES_AND_LINES 6570 7710 *
HORIZONTAL_DATUM NAD83 *
HORIZONTAL_COORDINATE_SYSTEM UTM *
COORDINATE_ZONE 10 *
HORIZONTAL_UNITS METERS *
HORIZONTAL_RESOLUTION 1.000 *
SECONDARY_HORIZONTAL_DATUM NAD27 *
XY_ORIGIN 737310.000 3945990.000 *
SECONDARY_XY_ORIGIN 737405.042 3945796.468 *
NATION US *
STATE CA *
NW_QUAD_CORNER_XY 737726.950 3945530.082 *
NE_QUAD_CORNER_XY 743388.445 3945683.075 *
SE_QUAD_CORNER_XY 743577.893 3938748.901 *
SW_QUAD_CORNER_XY 737911.983 3938596.022 *
SECONDARY_NW_QUAD_XY 737732.542 3945330.749 *
SECONDARY_NE_QUAD_XY 743394.170 3945483.746 *
SECONDARY_SE_QUAD_XY 743583.613 3938549.753 *
SECONDARY_SW_QUAD_XY 737917.570 3938396.871 *
RMSE_XY 1.652 *
IMAGE_SOURCE "BLACK AND WHITE FILM" *
SOURCE_IMAGE_ID "NAPP 6915 34" *
SOURCE_IMAGE_DATE 1994 04 21 *
SOURCE_DEM_DATE 1958 01 01 *
AGENCY "WESTERN MAPPING CENTER (WMC)" *
PRODUCER "ANALYTICAL SURVEYS INC." *
PRODUCTION_SYSTEM "ORBIT OR_RECTIFY V.5.2" *
STANDARD_VERSION 1996 12 *
METADATA_DATE 1998 11 04 *
DATA_FILE_SIZE 50661270 *
BYTE_COUNT 6570 * * * * * * * * * * * * * * * * * * * * * * * * * * * * * * * * * * * * * * * *
END_USGS_HEADER *
