BEGIN_USGS_DOQ_HEADER *
QUADRANGLE_NAME "CAMATTA CANYON" *
QUADRANT SE *
NORTH_LATITUDE 35 33 45.000 *
WEST_LONGITUDE -120 18 45.000 *
SOUTH_LATITUDE 35 30 00.000 *
EAST_LONGITUDE -120 15 00.000 *
PRODUCTION_DATE 1998 11 02 *
RASTER_ORDER LEFT_RIGHT/TOP_BOTTOM *
BAND_ORGANIZATION "SINGLE FILE" *
BAND_CONTENT BLACK&WHITE *
BITS_PER_PIXEL 8 *
SAMPLES_AND_LINES 6600 7710 *
HORIZONTAL_DATUM NAD83 *
HORIZONTAL_COORDINATE_SYSTEM UTM *
COORDINATE_ZONE 10 *
HORIZONTAL_UNITS METERS *
HORIZONTAL_RESOLUTION 1.000 *
SECONDARY_HORIZONTAL_DATUM NAD27 *
XY_ORIGIN 743160.000 3939210.000 *
SECONDARY_XY_ORIGIN 743255.070 3939016.634 *
NATION US *
STATE CA *
NW_QUAD_CORNER_XY 743577.893 3938748.901 *
NE_QUAD_CORNER_XY 749243.897 3938905.385 *
SE_QUAD_CORNER_XY 749437.464 3931971.151 *
SW_QUAD_CORNER_XY 743767.051 3931814.784 *
SECONDARY_NW_QUAD_XY 743583.613 3938549.753 *
SECONDARY_NE_QUAD_XY 749249.751 3938706.241 *
SECONDARY_SE_QUAD_XY 749443.312 3931772.188 *
SECONDARY_SW_QUAD_XY 743772.766 3931615.818 *
RMSE_XY 1.230 *
IMAGE_SOURCE "BLACK AND WHITE FILM" *
SOURCE_IMAGE_ID "NAPP 6915 59" *
SOURCE_IMAGE_DATE 1994 04 21 *
SOURCE_DEM_DATE 1958 01 01 *
AGENCY "WESTERN MAPPING CENTER (WMC)" *
PRODUCER "ANALYTICAL SURVEYS INC." *
PRODUCTION_SYSTEM "ORBIT OR_RECTIFY V.5.2" *
STANDARD_VERSION 1996 12 *
METADATA_DATE 1998 11 04 *
DATA_FILE_SIZE 50892600 *
BYTE_COUNT 6600 * * * * * * * * * * * * * * * * * * * * * * * * * * * * * * * * * * * * * * * *
END_USGS_HEADER *
