BEGIN_USGS_DOQ_HEADER *
QUADRANGLE_NAME "SHEDD CANYON" *
QUADRANT NW *
NORTH_LATITUDE 35 37 30.000 *
WEST_LONGITUDE -120 30 00.000 *
SOUTH_LATITUDE 35 33 45.000 *
EAST_LONGITUDE -120 26 15.000 *
PRODUCTION_DATE 1998 11 03 *
RASTER_ORDER LEFT_RIGHT/TOP_BOTTOM *
BAND_ORGANIZATION "SINGLE FILE" *
BAND_CONTENT BLACK&WHITE *
BITS_PER_PIXEL 8 *
SAMPLES_AND_LINES 6570 7710 *
HORIZONTAL_DATUM NAD83 *
HORIZONTAL_COORDINATE_SYSTEM UTM *
COORDINATE_ZONE 10 *
HORIZONTAL_UNITS METERS *
HORIZONTAL_RESOLUTION 1.000 *
SECONDARY_HORIZONTAL_DATUM NAD27 *
XY_ORIGIN 726000.000 3945690.000 *
SECONDARY_XY_ORIGIN 726095.332 3945496.244 *
NATION US *
STATE CA *
NW_QUAD_CORNER_XY 726404.233 3945234.918 *
NE_QUAD_CORNER_XY 732065.547 3945380.696 *
SE_QUAD_CORNER_XY 732246.166 3938446.748 *
SW_QUAD_CORNER_XY 726580.438 3938301.078 *
SECONDARY_NW_QUAD_XY 726409.559 3945035.578 *
SECONDARY_NE_QUAD_XY 732071.006 3945181.360 *
SECONDARY_SE_QUAD_XY 732251.620 3938247.593 *
SECONDARY_SW_QUAD_XY 726585.759 3938101.919 *
RMSE_XY 2.100 *
IMAGE_SOURCE "BLACK AND WHITE FILM" *
SOURCE_IMAGE_ID "NAPP 6926 23" *
SOURCE_IMAGE_DATE 1994 09 04 *
SOURCE_DEM_DATE 1958 01 01 *
AGENCY "WESTERN MAPPING CENTER (WMC)" *
PRODUCER "ANALYTICAL SURVEYS INC." *
PRODUCTION_SYSTEM "ORBIT OR_RECTIFY V.5.2" *
STANDARD_VERSION 1996 12 *
METADATA_DATE 1998 11 04 *
DATA_FILE_SIZE 50661270 *
BYTE_COUNT 6570 * * * * * * * * * * * * * * * * * * * * * * * * * * * * * * * * * * * * * * * *
END_USGS_HEADER *
