BEGIN_USGS_DOQ_HEADER *
QUADRANGLE_NAME "SHEDD CANYON" *
QUADRANT SE *
NORTH_LATITUDE 35 33 45.000 *
WEST_LONGITUDE -120 26 15.000 *
SOUTH_LATITUDE 35 30 00.000 *
EAST_LONGITUDE -120 22 30.000 *
PRODUCTION_DATE 1998 11 03 *
RASTER_ORDER LEFT_RIGHT/TOP_BOTTOM *
BAND_ORGANIZATION "SINGLE FILE" *
BAND_CONTENT BLACK&WHITE *
BITS_PER_PIXEL 8 *
SAMPLES_AND_LINES 6570 7710 *
HORIZONTAL_DATUM NAD83 *
HORIZONTAL_COORDINATE_SYSTEM UTM *
COORDINATE_ZONE 10 *
HORIZONTAL_UNITS METERS *
HORIZONTAL_RESOLUTION 1.000 *
SECONDARY_HORIZONTAL_DATUM NAD27 *
XY_ORIGIN 731850.000 3938910.000 *
SECONDARY_XY_ORIGIN 731945.320 3938716.444 *
NATION US *
STATE CA *
NW_QUAD_CORNER_XY 732246.166 3938446.748 *
NE_QUAD_CORNER_XY 737911.983 3938596.022 *
SE_QUAD_CORNER_XY 738096.733 3931662.020 *
SW_QUAD_CORNER_XY 732426.508 3931512.858 *
SECONDARY_NW_QUAD_XY 732251.620 3938247.593 *
SECONDARY_NE_QUAD_XY 737917.570 3938396.871 *
SECONDARY_SE_QUAD_XY 738102.315 3931463.050 *
SECONDARY_SW_QUAD_XY 732431.957 3931313.884 *
RMSE_XY 1.674 *
IMAGE_SOURCE "BLACK AND WHITE FILM" *
SOURCE_IMAGE_ID "NAPP 6916 70" *
SOURCE_IMAGE_DATE 1994 05 02 *
SOURCE_DEM_DATE 1958 01 01 *
AGENCY "WESTERN MAPPING CENTER (WMC)" *
PRODUCER "ANALYTICAL SURVEYS INC." *
PRODUCTION_SYSTEM "ORBIT OR_RECTIFY V.5.2" *
STANDARD_VERSION 1996 12 *
METADATA_DATE 1998 11 04 *
DATA_FILE_SIZE 50661270 *
BYTE_COUNT 6570 * * * * * * * * * * * * * * * * * * * * * * * * * * * * * * * * * * * * * * * *
END_USGS_HEADER *
