BEGIN_USGS_DOQ_HEADER *
QUADRANGLE_NAME "CRESTON" *
QUADRANT NW *
NORTH_LATITUDE 35 37 30.000 *
WEST_LONGITUDE -120 37 30.000 *
SOUTH_LATITUDE 35 33 45.000 *
EAST_LONGITUDE -120 33 45.000 *
PRODUCTION_DATE 1998 11 03 *
RASTER_ORDER LEFT_RIGHT/TOP_BOTTOM *
BAND_ORGANIZATION "SINGLE FILE" *
BAND_CONTENT BLACK&WHITE *
BITS_PER_PIXEL 8 *
SAMPLES_AND_LINES 6540 7710 *
HORIZONTAL_DATUM NAD83 *
HORIZONTAL_COORDINATE_SYSTEM UTM *
COORDINATE_ZONE 10 *
HORIZONTAL_UNITS METERS *
HORIZONTAL_RESOLUTION 1.000 *
SECONDARY_HORIZONTAL_DATUM NAD27 *
XY_ORIGIN 714690.000 3945420.000 *
SECONDARY_XY_ORIGIN 714785.646 3945226.132 *
NATION US *
STATE CA *
NW_QUAD_CORNER_XY 715081.866 3944954.178 *
NE_QUAD_CORNER_XY 720743.007 3945092.745 *
SE_QUAD_CORNER_XY 720914.799 3938159.011 *
SW_QUAD_CORNER_XY 715249.245 3938020.548 *
SECONDARY_NW_QUAD_XY 715086.924 3944754.832 *
SECONDARY_NE_QUAD_XY 720748.199 3944893.402 *
SECONDARY_SE_QUAD_XY 720919.986 3937959.849 *
SECONDARY_SW_QUAD_XY 715254.299 3937821.382 *
RMSE_XY 2.932 *
IMAGE_SOURCE "BLACK AND WHITE FILM" *
SOURCE_IMAGE_ID "NAPP 6926 46" *
SOURCE_IMAGE_DATE 1994 09 04 *
SOURCE_DEM_DATE 1947 01 01 *
AGENCY "WESTERN MAPPING CENTER (WMC)" *
PRODUCER "ANALYTICAL SURVEYS INC." *
PRODUCTION_SYSTEM "ORBIT OR_RECTIFY V.5.2" *
STANDARD_VERSION 1996 12 *
METADATA_DATE 1998 11 04 *
DATA_FILE_SIZE 50429940 *
BYTE_COUNT 6540 * * * * * * * * * * * * * * * * * * * * * * * * * * * * * * * * * * * * * * *
END_USGS_HEADER *
