BEGIN_USGS_DOQ_HEADER *
QUADRANGLE_NAME "CRESTON" *
QUADRANT SE *
NORTH_LATITUDE 35 33 45.000 *
WEST_LONGITUDE -120 33 45.000 *
SOUTH_LATITUDE 35 30 00.000 *
EAST_LONGITUDE -120 30 00.000 *
PRODUCTION_DATE 1998 11 03 *
RASTER_ORDER LEFT_RIGHT/TOP_BOTTOM *
BAND_ORGANIZATION "SINGLE FILE" *
BAND_CONTENT BLACK&WHITE *
BITS_PER_PIXEL 8 *
SAMPLES_AND_LINES 6570 7710 *
HORIZONTAL_DATUM NAD83 *
HORIZONTAL_COORDINATE_SYSTEM UTM *
COORDINATE_ZONE 10 *
HORIZONTAL_UNITS METERS *
HORIZONTAL_RESOLUTION 1.000 *
SECONDARY_HORIZONTAL_DATUM NAD27 *
XY_ORIGIN 720510.000 3938610.000 *
SECONDARY_XY_ORIGIN 720605.586 3938416.270 *
NATION US *
STATE CA *
NW_QUAD_CORNER_XY 720914.799 3938159.011 *
NE_QUAD_CORNER_XY 726580.438 3938301.078 *
SE_QUAD_CORNER_XY 726756.373 3931367.297 *
SW_QUAD_CORNER_XY 721086.327 3931225.337 *
SECONDARY_NW_QUAD_XY 720919.986 3937959.849 *
SECONDARY_NE_QUAD_XY 726585.759 3938101.919 *
SECONDARY_SE_QUAD_XY 726761.689 3931168.319 *
SECONDARY_SW_QUAD_XY 721091.510 3931026.356 *
RMSE_XY 1.204 *
IMAGE_SOURCE "BLACK AND WHITE FILM" *
SOURCE_IMAGE_ID "NAPP 6926 68" *
SOURCE_IMAGE_DATE 1994 09 04 *
SOURCE_DEM_DATE 1947 01 01 *
AGENCY "WESTERN MAPPING CENTER (WMC)" *
PRODUCER "ANALYTICAL SURVEYS INC." *
PRODUCTION_SYSTEM "ORBIT OR_RECTIFY V.5.2" *
STANDARD_VERSION 1996 12 *
METADATA_DATE 1998 11 04 *
DATA_FILE_SIZE 50661270 *
BYTE_COUNT 6570 * * * * * * * * * * * * * * * * * * * * * * * * * * * * * * * * * * * * * * * *
END_USGS_HEADER *
