BEGIN_USGS_DOQ_HEADER *
QUADRANGLE_NAME "TEMPLETON" *
QUADRANT NW *
NORTH_LATITUDE 35 37 30.000 *
WEST_LONGITUDE -120 45 00.000 *
SOUTH_LATITUDE 35 33 45.000 *
EAST_LONGITUDE -120 41 15.000 *
PRODUCTION_DATE 1998 11 02 *
RASTER_ORDER LEFT_RIGHT/TOP_BOTTOM *
BAND_ORGANIZATION "SINGLE FILE" *
BAND_CONTENT BLACK&WHITE *
BITS_PER_PIXEL 8 *
SAMPLES_AND_LINES 6540 7680 *
HORIZONTAL_DATUM NAD83 *
HORIZONTAL_COORDINATE_SYSTEM UTM *
COORDINATE_ZONE 10 *
HORIZONTAL_UNITS METERS *
HORIZONTAL_RESOLUTION 1.000 *
SECONDARY_HORIZONTAL_DATUM NAD27 *
XY_ORIGIN 703350.000 3945120.000 *
SECONDARY_XY_ORIGIN 703445.960 3944926.025 *
NATION US *
STATE CA *
NW_QUAD_CORNER_XY 703759.829 3944687.860 *
NE_QUAD_CORNER_XY 709420.807 3944819.217 *
SE_QUAD_CORNER_XY 709583.774 3937885.687 *
SW_QUAD_CORNER_XY 703918.385 3937754.428 *
SECONDARY_NW_QUAD_XY 703764.622 3944488.508 *
SECONDARY_NE_QUAD_XY 709425.733 3944619.868 *
SECONDARY_SE_QUAD_XY 709588.695 3937686.518 *
SECONDARY_SW_QUAD_XY 703923.173 3937555.256 *
RMSE_XY 1.742 *
IMAGE_SOURCE "BLACK AND WHITE FILM" *
SOURCE_IMAGE_ID "NAPP 6928 22" *
SOURCE_IMAGE_DATE 1994 09 15 *
SOURCE_DEM_DATE 1976 01 01 *
AGENCY "WESTERN MAPPING CENTER (WMC)" *
PRODUCER "ANALYTICAL SURVEYS INC." *
PRODUCTION_SYSTEM "ORBIT OR_RECTIFY V.5.2" *
STANDARD_VERSION 1996 12 *
METADATA_DATE 1998 11 04 *
DATA_FILE_SIZE 50233740 *
BYTE_COUNT 6540 * * * * * * * * * * * * * * * * * * * * * * * * * * * * * * * * * * * * * * *
END_USGS_HEADER *
