BEGIN_USGS_DOQ_HEADER *
QUADRANGLE_NAME "TEMPLETON" *
QUADRANT SE *
NORTH_LATITUDE 35 33 45.000 *
WEST_LONGITUDE -120 41 15.000 *
SOUTH_LATITUDE 35 30 00.000 *
EAST_LONGITUDE -120 37 30.000 *
PRODUCTION_DATE 1998 11 02 *
RASTER_ORDER LEFT_RIGHT/TOP_BOTTOM *
BAND_ORGANIZATION "SINGLE FILE" *
BAND_CONTENT BLACK&WHITE *
BITS_PER_PIXEL 8 *
SAMPLES_AND_LINES 6570 7710 *
HORIZONTAL_DATUM NAD83 *
HORIZONTAL_COORDINATE_SYSTEM UTM *
COORDINATE_ZONE 10 *
HORIZONTAL_UNITS METERS *
HORIZONTAL_RESOLUTION 1.000 *
SECONDARY_HORIZONTAL_DATUM NAD27 *
XY_ORIGIN 709170.000 3938340.000 *
SECONDARY_XY_ORIGIN 709265.865 3938146.130 *
NATION US *
STATE CA *
NW_QUAD_CORNER_XY 709583.774 3937885.687 *
NE_QUAD_CORNER_XY 715249.245 3938020.548 *
SE_QUAD_CORNER_XY 715416.367 3931086.977 *
SW_QUAD_CORNER_XY 709746.492 3930952.217 *
SECONDARY_NW_QUAD_XY 709588.695 3937686.518 *
SECONDARY_NE_QUAD_XY 715254.299 3937821.382 *
SECONDARY_SE_QUAD_XY 715421.417 3930887.993 *
SECONDARY_SW_QUAD_XY 709751.408 3930753.230 *
RMSE_XY 1.798 *
IMAGE_SOURCE "BLACK AND WHITE FILM" *
SOURCE_IMAGE_ID "NAPP 6921 20" *
SOURCE_IMAGE_DATE 1994 09 03 *
SOURCE_DEM_DATE 1976 01 01 *
AGENCY "WESTERN MAPPING CENTER (WMC)" *
PRODUCER "ANALYTICAL SURVEYS INC." *
PRODUCTION_SYSTEM "ORBIT OR_RECTIFY V.5.2" *
STANDARD_VERSION 1996 12 *
METADATA_DATE 1998 11 04 *
DATA_FILE_SIZE 50661270 *
BYTE_COUNT 6570 * * * * * * * * * * * * * * * * * * * * * * * * * * * * * * * * * * * * * * * *
END_USGS_HEADER *
