BEGIN_USGS_DOQ_HEADER *
QUADRANGLE_NAME "TEMPLETON" *
QUADRANT SW *
WEST_LONGITUDE -120 45 00.000 *
EAST_LONGITUDE -120 41 15.000 *
NORTH_LATITUDE 35 33 45.000 *
SOUTH_LATITUDE 35 30 00.000 *
PRODUCTION_DATE 1998 11 02 *
RASTER_ORDER LEFT_RIGHT/TOP_BOTTOM *
BAND_ORGANIZATION "SINGLE FILE" *
BAND_CONTENT BLACK&WHITE *
BITS_PER_PIXEL 8 *
SAMPLES_AND_LINES 6570 7680 *
HORIZONTAL_DATUM NAD83 *
HORIZONTAL_COORDINATE_SYSTEM UTM *
COORDINATE_ZONE 10 *
HORIZONTAL_UNITS METERS *
HORIZONTAL_RESOLUTION 1.000 *
SECONDARY_HORIZONTAL_DATUM NAD27 *
XY_ORIGIN 703500.000 3938190.000 *
SECONDARY_XY_ORIGIN 703596.004 3937996.060 *
NATION US *
STATE CA *
NW_QUAD_CORNER_XY 703918.385 3937754.428 *
NE_QUAD_CORNER_XY 709583.774 3937885.687 *
SE_QUAD_CORNER_XY 709746.492 3930952.217 *
SW_QUAD_CORNER_XY 704076.698 3930821.056 *
SECONDARY_NW_QUAD_XY 703923.173 3937555.256 *
SECONDARY_NE_QUAD_XY 709588.695 3937686.518 *
SECONDARY_SE_QUAD_XY 709751.408 3930753.230 *
SECONDARY_SW_QUAD_XY 704081.482 3930622.066 *
RMSE_XY 2.273 *
IMAGE_SOURCE "BLACK AND WHITE FILM" *
SOURCE_IMAGE_ID "NAPP 6928 24" *
SOURCE_IMAGE_DATE 1994 09 15 *
SOURCE_IMAGE_ID "NAPP 6920 239" *
SOURCE_IMAGE_DATE 1994 05 13 *
SOURCE_DEM_DATE 1976 01 01 *
AGENCY "WESTERN MAPPING CENTER (WMC)" *
PRODUCER "ANALYTICAL SURVEYS INC." *
PRODUCTION_SYSTEM "ORBIT OR_RECTIFY V.5.2" *
STANDARD_VERSION 1996 12 *
METADATA_DATE 2000 12 06 *
DATA_FILE_SIZE 50464170 *
BYTE_COUNT 6570 * * * * * * * * * * * * * * * * * * * * * * * * * * * * * * * * * * * * * *
END_USGS_HEADER *
