BEGIN_USGS_DOQ_HEADER *
QUADRANGLE_NAME "YORK MOUNTAIN" *
QUADRANT NW *
NORTH_LATITUDE 35 37 30.000 *
WEST_LONGITUDE -120 52 30.000 *
SOUTH_LATITUDE 35 33 45.000 *
EAST_LONGITUDE -120 48 45.000 *
PRODUCTION_DATE 1998 11 15 *
RASTER_ORDER LEFT_RIGHT/TOP_BOTTOM *
BAND_ORGANIZATION "SINGLE FILE" *
BAND_CONTENT BLACK&WHITE *
BITS_PER_PIXEL 8 *
SAMPLES_AND_LINES 6540 7710 *
HORIZONTAL_DATUM NAD83 *
HORIZONTAL_COORDINATE_SYSTEM UTM *
COORDINATE_ZONE 10 *
HORIZONTAL_UNITS METERS *
HORIZONTAL_RESOLUTION 1.000 *
SECONDARY_HORIZONTAL_DATUM NAD27 *
XY_ORIGIN 692040.000 3944880.000 *
SECONDARY_XY_ORIGIN 692136.312 3944685.902 *
NATION US *
STATE CA *
NW_QUAD_CORNER_XY 692438.107 3944435.959 *
NE_QUAD_CORNER_XY 698098.930 3944560.107 *
SE_QUAD_CORNER_XY 698253.075 3937626.770 *
SW_QUAD_CORNER_XY 692587.842 3937502.714 *
SECONDARY_NW_QUAD_XY 692442.633 3944236.600 *
SECONDARY_NE_QUAD_XY 698103.589 3944360.752 *
SECONDARY_SE_QUAD_XY 698257.730 3937427.596 *
SECONDARY_SW_QUAD_XY 692592.364 3937303.536 *
RMSE_XY 2.907 *
IMAGE_SOURCE "BLACK AND WHITE FILM" *
SOURCE_IMAGE_ID "NAPP 6923 199" *
SOURCE_IMAGE_DATE 1994 05 28 *
SOURCE_DEM_DATE 1976 01 01 *
AGENCY "WESTERN MAPPING CENTER (WMC)" *
PRODUCER "ANALYTICAL SURVEYS INC." *
PRODUCTION_SYSTEM "ORBIT OR_RECTIFY V.5.2" *
STANDARD_VERSION 1996 12 *
METADATA_DATE 1998 11 15 *
DATA_FILE_SIZE 50429940 *
BYTE_COUNT 6540 * * * * * * * * * * * * * * * * * * * * * * * * * * * * * * * * * * * * * * *
END_USGS_HEADER *
