BEGIN_USGS_DOQ_HEADER *
QUADRANGLE_NAME "YORK MOUNTAIN" *
QUADRANT SE *
NORTH_LATITUDE 35 33 45.000 *
WEST_LONGITUDE -120 48 45.000 *
SOUTH_LATITUDE 35 30 00.000 *
EAST_LONGITUDE -120 45 00.000 *
PRODUCTION_DATE 1998 11 15 *
RASTER_ORDER LEFT_RIGHT/TOP_BOTTOM *
BAND_ORGANIZATION "SINGLE FILE" *
BAND_CONTENT BLACK&WHITE *
BITS_PER_PIXEL 8 *
SAMPLES_AND_LINES 6540 7680 *
HORIZONTAL_DATUM NAD83 *
HORIZONTAL_COORDINATE_SYSTEM UTM *
COORDINATE_ZONE 10 *
HORIZONTAL_UNITS METERS *
HORIZONTAL_RESOLUTION 1.000 *
SECONDARY_HORIZONTAL_DATUM NAD27 *
XY_ORIGIN 697830.000 3938070.000 *
SECONDARY_XY_ORIGIN 697926.182 3937876.010 *
NATION US *
STATE CA *
NW_QUAD_CORNER_XY 698253.075 3937626.770 *
NE_QUAD_CORNER_XY 703918.385 3937754.428 *
SE_QUAD_CORNER_XY 704076.698 3930821.056 *
SW_QUAD_CORNER_XY 698406.984 3930693.495 *
SECONDARY_NW_QUAD_XY 698257.730 3937427.596 *
SECONDARY_NE_QUAD_XY 703923.173 3937555.256 *
SECONDARY_SE_QUAD_XY 704081.482 3930622.066 *
SECONDARY_SW_QUAD_XY 698411.634 3930494.501 *
RMSE_XY 2.973 *
IMAGE_SOURCE "BLACK AND WHITE FILM" *
SOURCE_IMAGE_ID "NAPP 6920 239" *
SOURCE_IMAGE_DATE 1994 05 13 *
SOURCE_IMAGE_ID "NAPP 6923 197" *
SOURCE_IMAGE_DATE 1994 05 28 *
SOURCE_DEM_DATE 1976 01 01 *
AGENCY "WESTERN MAPPING CENTER (WMC)" *
PRODUCER "ANALYTICAL SURVEYS INC." *
PRODUCTION_SYSTEM "ORBIT OR_RECTIFY V.5.2" *
STANDARD_VERSION 1996 12 *
METADATA_DATE 1998 11 15 *
DATA_FILE_SIZE 50233740 *
BYTE_COUNT 6540 * * * * * * * * * * * * * * * * * * * * * * * * * * * * * * * * * * * * *
END_USGS_HEADER *
